BEGIN:VCALENDAR
VERSION:2.0
PRODID:-//Terra Arte - ECPv6.15.20//NONSGML v1.0//EN
CALSCALE:GREGORIAN
METHOD:PUBLISH
X-WR-CALNAME:Terra Arte
X-ORIGINAL-URL:https://terraarte.pl
X-WR-CALDESC:Wydarzenia dla Terra Arte
REFRESH-INTERVAL;VALUE=DURATION:PT1H
X-Robots-Tag:noindex
X-PUBLISHED-TTL:PT1H
BEGIN:VTIMEZONE
TZID:Europe/Warsaw
BEGIN:DAYLIGHT
TZOFFSETFROM:+0100
TZOFFSETTO:+0200
TZNAME:CEST
DTSTART:20250330T010000
END:DAYLIGHT
BEGIN:STANDARD
TZOFFSETFROM:+0200
TZOFFSETTO:+0100
TZNAME:CET
DTSTART:20251026T010000
END:STANDARD
BEGIN:DAYLIGHT
TZOFFSETFROM:+0100
TZOFFSETTO:+0200
TZNAME:CEST
DTSTART:20260329T010000
END:DAYLIGHT
BEGIN:STANDARD
TZOFFSETFROM:+0200
TZOFFSETTO:+0100
TZNAME:CET
DTSTART:20261025T010000
END:STANDARD
BEGIN:DAYLIGHT
TZOFFSETFROM:+0100
TZOFFSETTO:+0200
TZNAME:CEST
DTSTART:20270328T010000
END:DAYLIGHT
BEGIN:STANDARD
TZOFFSETFROM:+0200
TZOFFSETTO:+0100
TZNAME:CET
DTSTART:20271031T010000
END:STANDARD
END:VTIMEZONE
BEGIN:VEVENT
DTSTART;TZID=Europe/Warsaw:20260416T190000
DTEND;TZID=Europe/Warsaw:20260416T210000
DTSTAMP:20260419T181757
CREATED:20260126T192002Z
LAST-MODIFIED:20260126T192002Z
UID:6139-1776366000-1776373200@terraarte.pl
SUMMARY:Kubek z plastyczną  dekoracją
DESCRIPTION:Ciekawe \, niewymagające (I) warsztaty dla wszystkich otwartych na nowe\, kreatywne doświadczenia. Także dla osób które z tworzeniem ceramiki będą miały do czynienia po raz pierwszy 🙂 \nWykonane prace będą gotowe do obioru albo szkliwienia po 2 tygodniach. \nNależy je odebrać lub poszkliwić w ciągu kolejnych 4 tygodni.
URL:https://terraarte.pl/event/kubek-z-plastyczna-dekoracja-2/
END:VEVENT
BEGIN:VEVENT
DTSTART;TZID=Europe/Warsaw:20260415T190000
DTEND;TZID=Europe/Warsaw:20260415T210000
DTSTAMP:20260419T181757
CREATED:20260126T185146Z
LAST-MODIFIED:20260126T185146Z
UID:6125-1776279600-1776286800@terraarte.pl
SUMMARY:Szkliwienie i malowanie prac
DESCRIPTION:Szkliwienie prac to wykańczanie wykonanych wcześniej i już wstępnie wypalonych na tzw.biskwit przedmiotów tak\, aby zyskały kolor\, połysk i nieprzesiąkliwość. Szkliwienie podnosi więc walory estetyczne i użytkowe naczyń. Polega na nałożeniu warstwy jednego lub kilku szkliw na powierzchnię naczynia przed ponownym wypaleniem. \nW pracowni znajdziecie szeroki wachlarz szkliw które dopasujecie do swoich naczyń i gustów 🙂 \nNa zajęciach istnieje możliwość wykonanie dekoracji malowanej na powierzchni szkliwa\, tzw. majoliki. \nPozwala ona uzyskać niezwykłe efekty dekoracyjne\, niemożliwe do osiągnięcia przy zastosowaniu samych szkliw.
URL:https://terraarte.pl/event/szkliwienie-i-malowanie-prac-16/
ATTACH;FMTTYPE=image/jpeg:https://terraarte.pl/wp-content/uploads/2019/07/painting-ceramics-female-ceramist-try-different-color-pottery-cup-during-workshop-master-class-scaled.jpg
END:VEVENT
BEGIN:VEVENT
DTSTART;TZID=Europe/Warsaw:20260414T190000
DTEND;TZID=Europe/Warsaw:20260414T210000
DTSTAMP:20260419T181757
CREATED:20260126T190052Z
LAST-MODIFIED:20260126T190052Z
UID:6135-1776193200-1776200400@terraarte.pl
SUMMARY:Filiżanka / kubek Jumbo
DESCRIPTION:Nieco bardziej zaawansowane (II)\, warsztaty dla wszystkich otwartych na nowe\, kreatywne doświadczenia. Przeznaczone zwłaszcza dla osób które lubią rękodzieło i prace manualne i nie obawiają się wyzwań ! Zapewniam jednak\, że dzięki instrukcjom\, krok po kroku\, proponowane naczynie wykona także niewtajemniczony uczestnik 🙂 \nWykonane prace będą gotowe do obioru albo szkliwienia po 2 tygodniach. \nNależy je odebrać lub poszkliwić w ciągu kolejnych 4 tygodni.
URL:https://terraarte.pl/event/filizanka-kubek-jumbo-2/
END:VEVENT
BEGIN:VEVENT
DTSTART;TZID=Europe/Warsaw:20260409T190000
DTEND;TZID=Europe/Warsaw:20260409T210000
DTSTAMP:20260419T181757
CREATED:20260126T185916Z
LAST-MODIFIED:20260126T185916Z
UID:6133-1775761200-1775768400@terraarte.pl
SUMMARY:Ażurowa patera ( owocarka )
DESCRIPTION:Nieco bardziej zaawansowane (II)\, warsztaty dla wszystkich otwartych na nowe\, kreatywne doświadczenia. Przeznaczone zwłaszcza dla osób które lubią rękodzieło i prace manualne i nie obawiają się wyzwań ! Zapewniam jednak\, że dzięki instrukcjom\, krok po kroku\, proponowane naczynie wykona także niewtajemniczony uczestnik 🙂 \nWykonane prace będą gotowe do obioru albo szkliwienia po 2 tygodniach. \nNależy je odebrać lub poszkliwić w ciągu kolejnych 4 tygodni.
URL:https://terraarte.pl/event/azurowa-patera-owocarka-2/
END:VEVENT
BEGIN:VEVENT
DTSTART;TZID=Europe/Warsaw:20260408T190000
DTEND;TZID=Europe/Warsaw:20260408T210000
DTSTAMP:20260419T181757
CREATED:20260126T185014Z
LAST-MODIFIED:20260126T185014Z
UID:6123-1775674800-1775682000@terraarte.pl
SUMMARY:Szkliwienie i malowanie prac
DESCRIPTION:Szkliwienie prac to wykańczanie wykonanych wcześniej i już wstępnie wypalonych na tzw.biskwit przedmiotów tak\, aby zyskały kolor\, połysk i nieprzesiąkliwość. Szkliwienie podnosi więc walory estetyczne i użytkowe naczyń. Polega na nałożeniu warstwy jednego lub kilku szkliw na powierzchnię naczynia przed ponownym wypaleniem. \nW pracowni znajdziecie szeroki wachlarz szkliw które dopasujecie do swoich naczyń i gustów 🙂 \nNa zajęciach istnieje możliwość wykonanie dekoracji malowanej na powierzchni szkliwa\, tzw. majoliki. \nPozwala ona uzyskać niezwykłe efekty dekoracyjne\, niemożliwe do osiągnięcia przy zastosowaniu samych szkliw.
URL:https://terraarte.pl/event/szkliwienie-i-malowanie-prac-15/
ATTACH;FMTTYPE=image/jpeg:https://terraarte.pl/wp-content/uploads/2019/07/painting-ceramics-female-ceramist-try-different-color-pottery-cup-during-workshop-master-class-scaled.jpg
END:VEVENT
BEGIN:VEVENT
DTSTART;TZID=Europe/Warsaw:20260402T190000
DTEND;TZID=Europe/Warsaw:20260402T210000
DTSTAMP:20260419T181757
CREATED:20260126T184301Z
LAST-MODIFIED:20260126T193330Z
UID:6119-1775156400-1775163600@terraarte.pl
SUMMARY:Ozdobna rawierka na przekąski
DESCRIPTION:Ciekawe \, niewymagające (I) warsztaty dla wszystkich otwartych na nowe\, kreatywne doświadczenia. Także dla osób które z tworzeniem ceramiki będą miały do czynienia po raz pierwszy 🙂 \nWykonane prace będą gotowe do obioru albo szkliwienia po 2 tygodniach. \nNależy je odebrać lub poszkliwić w ciągu kolejnych 4 tygodni.
URL:https://terraarte.pl/event/filizanka-ze-spodkiem-4/
END:VEVENT
BEGIN:VEVENT
DTSTART;TZID=Europe/Warsaw:20260401T190000
DTEND;TZID=Europe/Warsaw:20260401T210000
DTSTAMP:20260419T181757
CREATED:20260126T184652Z
LAST-MODIFIED:20260126T184857Z
UID:6121-1775070000-1775077200@terraarte.pl
SUMMARY:Szkliwienie i malowanie prac
DESCRIPTION:Szkliwienie prac to wykańczanie wykonanych wcześniej i już wstępnie wypalonych na tzw.biskwit przedmiotów tak\, aby zyskały kolor\, połysk i nieprzesiąkliwość. Szkliwienie podnosi więc walory estetyczne i użytkowe naczyń. Polega na nałożeniu warstwy jednego lub kilku szkliw na powierzchnię naczynia przed ponownym wypaleniem. \nW pracowni znajdziecie szeroki wachlarz szkliw które dopasujecie do swoich naczyń i gustów 🙂 \nNa zajęciach istnieje możliwość wykonanie dekoracji malowanej na powierzchni szkliwa\, tzw. majoliki. \nPozwala ona uzyskać niezwykłe efekty dekoracyjne\, niemożliwe do osiągnięcia przy zastosowaniu samych szkliw.
URL:https://terraarte.pl/event/szkliwienie-i-malowanie-prac-14/
ATTACH;FMTTYPE=image/jpeg:https://terraarte.pl/wp-content/uploads/2019/07/painting-ceramics-female-ceramist-try-different-color-pottery-cup-during-workshop-master-class-scaled.jpg
END:VEVENT
BEGIN:VEVENT
DTSTART;TZID=Europe/Warsaw:20260331T190000
DTEND;TZID=Europe/Warsaw:20260331T210000
DTSTAMP:20260419T181757
CREATED:20260126T184120Z
LAST-MODIFIED:20260126T184120Z
UID:6117-1774983600-1774990800@terraarte.pl
SUMMARY:Kubek z plastyczną  dekoracją
DESCRIPTION:Ciekawe \, niewymagające (I) warsztaty dla wszystkich otwartych na nowe\, kreatywne doświadczenia. Także dla osób które z tworzeniem ceramiki będą miały do czynienia po raz pierwszy 🙂 \nWykonane prace będą gotowe do obioru albo szkliwienia po 2 tygodniach. \nNależy je odebrać lub poszkliwić w ciągu kolejnych 4 tygodni.
URL:https://terraarte.pl/event/kubek-z-plastyczna-dekoracja/
END:VEVENT
BEGIN:VEVENT
DTSTART;TZID=Europe/Warsaw:20260326T190000
DTEND;TZID=Europe/Warsaw:20260326T210000
DTSTAMP:20260419T181757
CREATED:20260126T183853Z
LAST-MODIFIED:20260126T183853Z
UID:6115-1774551600-1774558800@terraarte.pl
SUMMARY:Zestaw do parzenia herbaty / kawy
DESCRIPTION:Nieco bardziej zaawansowane (II)\, warsztaty dla wszystkich otwartych na nowe\, kreatywne doświadczenia. Przeznaczone zwłaszcza dla osób które lubią rękodzieło i prace manualne i nie obawiają się wyzwań ! Zapewniam jednak\, że dzięki instrukcjom\, krok po kroku\, proponowane naczynie wykona także niewtajemniczony uczestnik 🙂 \nWykonane prace będą gotowe do obioru albo szkliwienia po 2 tygodniach. \nNależy je odebrać lub poszkliwić w ciągu kolejnych 4 tygodni.
URL:https://terraarte.pl/event/zestaw-do-parzenia-herbaty-kawy-2/
END:VEVENT
BEGIN:VEVENT
DTSTART;TZID=Europe/Warsaw:20260325T190000
DTEND;TZID=Europe/Warsaw:20260325T210000
DTSTAMP:20260419T181757
CREATED:20260126T182952Z
LAST-MODIFIED:20260126T182952Z
UID:6111-1774465200-1774472400@terraarte.pl
SUMMARY:Szkliwienie i malowanie prac
DESCRIPTION:Szkliwienie prac to wykańczanie wykonanych wcześniej i już wstępnie wypalonych na tzw.biskwit przedmiotów tak\, aby zyskały kolor\, połysk i nieprzesiąkliwość. Szkliwienie podnosi więc walory estetyczne i użytkowe naczyń. Polega na nałożeniu warstwy jednego lub kilku szkliw na powierzchnię naczynia przed ponownym wypaleniem. \nW pracowni znajdziecie szeroki wachlarz szkliw które dopasujecie do swoich naczyń i gustów 🙂 \nNa zajęciach istnieje możliwość wykonanie dekoracji malowanej na powierzchni szkliwa\, tzw. majoliki. \nPozwala ona uzyskać niezwykłe efekty dekoracyjne\, niemożliwe do osiągnięcia przy zastosowaniu samych szkliw.
URL:https://terraarte.pl/event/szkliwienie-i-malowanie-prac-13/
ATTACH;FMTTYPE=image/jpeg:https://terraarte.pl/wp-content/uploads/2019/07/painting-ceramics-female-ceramist-try-different-color-pottery-cup-during-workshop-master-class-scaled.jpg
END:VEVENT
BEGIN:VEVENT
DTSTART;TZID=Europe/Warsaw:20260324T190000
DTEND;TZID=Europe/Warsaw:20260324T210000
DTSTAMP:20260419T181757
CREATED:20260126T183556Z
LAST-MODIFIED:20260126T183556Z
UID:6113-1774378800-1774386000@terraarte.pl
SUMMARY:Ażurowa patera ( owocarka )
DESCRIPTION:Nieco bardziej zaawansowane (II)\, warsztaty dla wszystkich otwartych na nowe\, kreatywne doświadczenia. Przeznaczone zwłaszcza dla osób które lubią rękodzieło i prace manualne i nie obawiają się wyzwań ! Zapewniam jednak\, że dzięki instrukcjom\, krok po kroku\, proponowane naczynie wykona także niewtajemniczony uczestnik 🙂 \nWykonane prace będą gotowe do obioru albo szkliwienia po 2 tygodniach. \nNależy je odebrać lub poszkliwić w ciągu kolejnych 4 tygodni.
URL:https://terraarte.pl/event/azurowa-patera-owocarka/
END:VEVENT
BEGIN:VEVENT
DTSTART;TZID=Europe/Warsaw:20260319T190000
DTEND;TZID=Europe/Warsaw:20260319T210000
DTSTAMP:20260419T181757
CREATED:20260126T182727Z
LAST-MODIFIED:20260126T182727Z
UID:6109-1773946800-1773954000@terraarte.pl
SUMMARY:Filiżanka / kubek Jumbo
DESCRIPTION:Nieco bardziej zaawansowane (II)\, warsztaty dla wszystkich otwartych na nowe\, kreatywne doświadczenia. Przeznaczone zwłaszcza dla osób które lubią rękodzieło i prace manualne i nie obawiają się wyzwań ! Zapewniam jednak\, że dzięki instrukcjom\, krok po kroku\, proponowane naczynie wykona także niewtajemniczony uczestnik 🙂 \nWykonane prace będą gotowe do obioru albo szkliwienia po 2 tygodniach. \nNależy je odebrać lub poszkliwić w ciągu kolejnych 4 tygodni.
URL:https://terraarte.pl/event/filizanka-kubek-jumbo/
END:VEVENT
BEGIN:VEVENT
DTSTART;TZID=Europe/Warsaw:20260318T190000
DTEND;TZID=Europe/Warsaw:20260318T210000
DTSTAMP:20260419T181757
CREATED:20260126T182410Z
LAST-MODIFIED:20260126T182410Z
UID:6107-1773860400-1773867600@terraarte.pl
SUMMARY:Szkliwienie i malowanie prac
DESCRIPTION:Szkliwienie prac to wykańczanie wykonanych wcześniej i już wstępnie wypalonych na tzw.biskwit przedmiotów tak\, aby zyskały kolor\, połysk i nieprzesiąkliwość. Szkliwienie podnosi więc walory estetyczne i użytkowe naczyń. Polega na nałożeniu warstwy jednego lub kilku szkliw na powierzchnię naczynia przed ponownym wypaleniem. \nW pracowni znajdziecie szeroki wachlarz szkliw które dopasujecie do swoich naczyń i gustów 🙂 \nNa zajęciach istnieje możliwość wykonanie dekoracji malowanej na powierzchni szkliwa\, tzw. majoliki. \nPozwala ona uzyskać niezwykłe efekty dekoracyjne\, niemożliwe do osiągnięcia przy zastosowaniu samych szkliw.
URL:https://terraarte.pl/event/szkliwienie-i-malowanie-prac-12/
ATTACH;FMTTYPE=image/jpeg:https://terraarte.pl/wp-content/uploads/2019/07/painting-ceramics-female-ceramist-try-different-color-pottery-cup-during-workshop-master-class-scaled.jpg
END:VEVENT
BEGIN:VEVENT
DTSTART;TZID=Europe/Warsaw:20260317T190000
DTEND;TZID=Europe/Warsaw:20260317T210000
DTSTAMP:20260419T181757
CREATED:20260126T181720Z
LAST-MODIFIED:20260126T181720Z
UID:6105-1773774000-1773781200@terraarte.pl
SUMMARY:Miseczki  w dowolnym kształcie
DESCRIPTION:Ciekawe \, niewymagające (I) warsztaty dla wszystkich otwartych na nowe\, kreatywne doświadczenia. Także dla osób które z tworzeniem ceramiki będą miały do czynienia po raz pierwszy 🙂 \nWykonane prace będą gotowe do obioru albo szkliwienia po 2 tygodniach. \nNależy je odebrać lub poszkliwić w ciągu kolejnych 4 tygodni.
URL:https://terraarte.pl/event/miseczki-w-dowolnym-ksztalcie-2/
END:VEVENT
BEGIN:VEVENT
DTSTART;TZID=Europe/Warsaw:20260312T190000
DTEND;TZID=Europe/Warsaw:20260312T210000
DTSTAMP:20260419T181757
CREATED:20260102T114032Z
LAST-MODIFIED:20260102T225532Z
UID:6078-1773342000-1773349200@terraarte.pl
SUMMARY:Filiżanka ze spodkiem
DESCRIPTION:Ciekawe \, niewymagające (I) warsztaty dla wszystkich otwartych na nowe\, kreatywne doświadczenia. Także dla osób które z tworzeniem ceramiki będą miały do czynienia po raz pierwszy 🙂 \nWykonane prace będą gotowe do obioru albo szkliwienia po 2 tygodniach. \nNależy je odebrać lub poszkliwić w ciągu kolejnych 4 tygodni.
URL:https://terraarte.pl/event/filizanka-ze-spodkiem/
END:VEVENT
BEGIN:VEVENT
DTSTART;TZID=Europe/Warsaw:20260311T190000
DTEND;TZID=Europe/Warsaw:20260311T210000
DTSTAMP:20260419T181757
CREATED:20260126T181445Z
LAST-MODIFIED:20260126T181445Z
UID:6103-1773255600-1773262800@terraarte.pl
SUMMARY:Szkliwienie i malowanie prac
DESCRIPTION:Szkliwienie prac to wykańczanie wykonanych wcześniej i już wstępnie wypalonych na tzw.biskwit przedmiotów tak\, aby zyskały kolor\, połysk i nieprzesiąkliwość. Szkliwienie podnosi więc walory estetyczne i użytkowe naczyń. Polega na nałożeniu warstwy jednego lub kilku szkliw na powierzchnię naczynia przed ponownym wypaleniem. \nW pracowni znajdziecie szeroki wachlarz szkliw które dopasujecie do swoich naczyń i gustów 🙂 \nNa zajęciach istnieje możliwość wykonanie dekoracji malowanej na powierzchni szkliwa\, tzw. majoliki. \nPozwala ona uzyskać niezwykłe efekty dekoracyjne\, niemożliwe do osiągnięcia przy zastosowaniu samych szkliw.
URL:https://terraarte.pl/event/szkliwienie-i-malowanie-prac-11/
ATTACH;FMTTYPE=image/jpeg:https://terraarte.pl/wp-content/uploads/2019/07/painting-ceramics-female-ceramist-try-different-color-pottery-cup-during-workshop-master-class-scaled.jpg
END:VEVENT
BEGIN:VEVENT
DTSTART;TZID=Europe/Warsaw:20260226T190000
DTEND;TZID=Europe/Warsaw:20260226T210000
DTSTAMP:20260419T181757
CREATED:20251204T140954Z
LAST-MODIFIED:20251229T215740Z
UID:6037-1772132400-1772139600@terraarte.pl
SUMMARY:Kubek z  dekoracją plastyczną
DESCRIPTION:Ciekawe \, niewymagające (I) warsztaty dla wszystkich otwartych na nowe\, kreatywne doświadczenia. Także dla osób które z tworzeniem ceramiki będą miały do czynienia po raz pierwszy 🙂 \nWykonane prace będą gotowe do obioru albo szkliwienia po 2 tygodniach. \nNależy je odebrać lub poszkliwić w ciągu kolejnych 4 tygodni.
URL:https://terraarte.pl/event/warsztaty-ceramiki-artystycznej-i-kubek-z-dekoracja-nakladana-3/
END:VEVENT
BEGIN:VEVENT
DTSTART;TZID=Europe/Warsaw:20260225T190000
DTEND;TZID=Europe/Warsaw:20260225T210000
DTSTAMP:20260419T181757
CREATED:20251204T134249Z
LAST-MODIFIED:20251204T134249Z
UID:6022-1772046000-1772053200@terraarte.pl
SUMMARY:Szkliwienie i malowanie prac
DESCRIPTION:Szkliwienie prac to wykańczanie wykonanych wcześniej i już wstępnie wypalonych na tzw.biskwit przedmiotów tak\, aby zyskały kolor\, połysk i nieprzesiąkliwość. Szkliwienie podnosi więc walory estetyczne i użytkowe naczyń. Polega na nałożeniu warstwy jednego lub kilku szkliw na powierzchnię naczynia przed ponownym wypaleniem. \nW pracowni znajdziecie szeroki wachlarz szkliw które dopasujecie do swoich naczyń i gustów 🙂 \nMajolika to technika polegająca na malowaniu dekoracji na świeżo nałożonym białym szkliwie. \nPozwala uzyskać niezwykłe efekty dekoracyjne.
URL:https://terraarte.pl/event/szkliwienie-i-malowanie-prac-9/
END:VEVENT
BEGIN:VEVENT
DTSTART;TZID=Europe/Warsaw:20260224T190000
DTEND;TZID=Europe/Warsaw:20260224T210000
DTSTAMP:20260419T181757
CREATED:20260115T115653Z
LAST-MODIFIED:20260115T115653Z
UID:6093-1771959600-1771966800@terraarte.pl
SUMMARY:Miseczki  w dowolnym kształcie
DESCRIPTION:Ciekawe \, niewymagające (I) warsztaty dla wszystkich otwartych na nowe\, kreatywne doświadczenia. Także dla osób które z tworzeniem ceramiki będą miały do czynienia po raz pierwszy 🙂 \nWykonane prace będą gotowe do obioru albo szkliwienia po 2 tygodniach. \nNależy je odebrać lub poszkliwić w ciągu kolejnych 4 tygodni.
URL:https://terraarte.pl/event/miseczki-w-dowolnym-ksztalcie/
END:VEVENT
BEGIN:VEVENT
DTSTART;TZID=Europe/Warsaw:20260219T190000
DTEND;TZID=Europe/Warsaw:20260219T210000
DTSTAMP:20260419T181757
CREATED:20251204T140804Z
LAST-MODIFIED:20251229T221443Z
UID:6032-1771527600-1771534800@terraarte.pl
SUMMARY:Ażurowa patera (owocarka)
DESCRIPTION:Nieco bardziej zaawansowane (II)\, warsztaty dla wszystkich otwartych na nowe\, kreatywne doświadczenia. Przeznaczone zwłaszcza dla osób które lubią rękodzieło i prace manualne i nie obawiają się wyzwań ! Zapewniam jednak\, że dzięki instrukcjom\, krok po kroku\, proponowane naczynie wykona także niewtajemniczony uczestnik 🙂 \nWykonane prace będą gotowe do obioru albo szkliwienia po 2 tygodniach. \nNależy je odebrać lub poszkliwić w ciągu kolejnych 4 tygodni.
URL:https://terraarte.pl/event/warsztaty-ceramiki-artystycznej-ii-azurowa-misa-4/
END:VEVENT
BEGIN:VEVENT
DTSTART;TZID=Europe/Warsaw:20260218T190000
DTEND;TZID=Europe/Warsaw:20260218T210000
DTSTAMP:20260419T181757
CREATED:20260115T114615Z
LAST-MODIFIED:20260115T114615Z
UID:6088-1771441200-1771448400@terraarte.pl
SUMMARY:Szkliwienie i malowanie prac
DESCRIPTION:Szkliwienie prac to wykańczanie wykonanych wcześniej i już wstępnie wypalonych na tzw.biskwit przedmiotów tak\, aby zyskały kolor\, połysk i nieprzesiąkliwość. Szkliwienie podnosi więc walory estetyczne i użytkowe naczyń. Polega na nałożeniu warstwy jednego lub kilku szkliw na powierzchnię naczynia przed ponownym wypaleniem. \nW pracowni znajdziecie szeroki wachlarz szkliw które dopasujecie do swoich naczyń i gustów 🙂 \nNa zajęciach istnieje możliwość wykonanie dekoracji malowanej na powierzchni szkliwa\, tzw. majoliki. \nPozwala ona uzyskać niezwykłe efekty dekoracyjne\, niemożliwe do osiągnięcia przy zastosowaniu samych szkliw.
URL:https://terraarte.pl/event/szkliwienie-i-malowanie-prac-10/
ATTACH;FMTTYPE=image/jpeg:https://terraarte.pl/wp-content/uploads/2019/07/painting-ceramics-female-ceramist-try-different-color-pottery-cup-during-workshop-master-class-scaled.jpg
END:VEVENT
BEGIN:VEVENT
DTSTART;TZID=Europe/Warsaw:20260217T190000
DTEND;TZID=Europe/Warsaw:20260217T210000
DTSTAMP:20260419T181757
CREATED:20260115T115040Z
LAST-MODIFIED:20260115T115040Z
UID:6091-1771354800-1771362000@terraarte.pl
SUMMARY:Filiżanka ze spodkiem
DESCRIPTION:Ciekawe \, niewymagające (I) warsztaty dla wszystkich otwartych na nowe\, kreatywne doświadczenia. Także dla osób które z tworzeniem ceramiki będą miały do czynienia po raz pierwszy 🙂 \nWykonane prace będą gotowe do obioru albo szkliwienia po 2 tygodniach. \nNależy je odebrać lub poszkliwić w ciągu kolejnych 4 tygodni.
URL:https://terraarte.pl/event/filizanka-ze-spodkiem-3/
END:VEVENT
BEGIN:VEVENT
DTSTART;TZID=Europe/Warsaw:20260212T190000
DTEND;TZID=Europe/Warsaw:20260212T210000
DTSTAMP:20260419T181757
CREATED:20251204T140501Z
LAST-MODIFIED:20251229T220037Z
UID:6033-1770922800-1770930000@terraarte.pl
SUMMARY:Filiżanka / kubek Jumbo
DESCRIPTION:Nieco bardziej zaawansowane (II)\, warsztaty dla wszystkich otwartych na nowe\, kreatywne doświadczenia. Przeznaczone zwłaszcza dla osób które lubią rękodzieło i prace manualne i nie obawiają się wyzwań ! Zapewniam jednak\, że dzięki instrukcjom\, krok po kroku\, proponowane naczynie wykona także niewtajemniczony uczestnik 🙂 \nWykonane prace będą gotowe do obioru albo szkliwienia po 2 tygodniach. \nNależy je odebrać lub poszkliwić w ciągu kolejnych 4 tygodni.
URL:https://terraarte.pl/event/warsztaty-ceramiki-artystycznej-ii-filizanka-kubek-jumbo-3/
END:VEVENT
BEGIN:VEVENT
DTSTART;TZID=Europe/Warsaw:20260211T190000
DTEND;TZID=Europe/Warsaw:20260211T210000
DTSTAMP:20260419T181757
CREATED:20251204T134151Z
LAST-MODIFIED:20251204T134151Z
UID:6020-1770836400-1770843600@terraarte.pl
SUMMARY:Szkliwienie i malowanie prac
DESCRIPTION:Szkliwienie prac to wykańczanie wykonanych wcześniej i już wstępnie wypalonych na tzw.biskwit przedmiotów tak\, aby zyskały kolor\, połysk i nieprzesiąkliwość. Szkliwienie podnosi więc walory estetyczne i użytkowe naczyń. Polega na nałożeniu warstwy jednego lub kilku szkliw na powierzchnię naczynia przed ponownym wypaleniem. \nW pracowni znajdziecie szeroki wachlarz szkliw które dopasujecie do swoich naczyń i gustów 🙂 \nMajolika to technika polegająca na malowaniu dekoracji na świeżo nałożonym białym szkliwie. \nPozwala uzyskać niezwykłe efekty dekoracyjne.
URL:https://terraarte.pl/event/szkliwienie-i-malowanie-prac-8/
ATTACH;FMTTYPE=image/jpeg:https://terraarte.pl/wp-content/uploads/2019/07/painting-ceramics-female-ceramist-try-different-color-pottery-cup-during-workshop-master-class-scaled.jpg
END:VEVENT
BEGIN:VEVENT
DTSTART;TZID=Europe/Warsaw:20260210T190000
DTEND;TZID=Europe/Warsaw:20260210T210000
DTSTAMP:20260419T181757
CREATED:20260102T232428Z
LAST-MODIFIED:20260102T232428Z
UID:6084-1770750000-1770757200@terraarte.pl
SUMMARY:Zestaw do parzenia herbaty / kawy
DESCRIPTION:Nieco bardziej zaawansowane (II)\, warsztaty dla wszystkich otwartych na nowe\, kreatywne doświadczenia. Przeznaczone zwłaszcza dla osób które lubią rękodzieło i prace manualne i nie obawiają się wyzwań ! Zapewniam jednak\, że dzięki instrukcjom\, krok po kroku\, proponowane naczynie wykona także niewtajemniczony uczestnik 🙂 \nWykonane prace będą gotowe do obioru albo szkliwienia po 2 tygodniach. \nNależy je odebrać lub poszkliwić w ciągu kolejnych 4 tygodni.
URL:https://terraarte.pl/event/zestaw-do-parzenia-herbaty-kawy/
END:VEVENT
BEGIN:VEVENT
DTSTART;TZID=Europe/Warsaw:20260205T190000
DTEND;TZID=Europe/Warsaw:20260205T210000
DTSTAMP:20260419T181757
CREATED:20251204T140103Z
LAST-MODIFIED:20251229T220528Z
UID:6030-1770318000-1770325200@terraarte.pl
SUMMARY:Miseczki w dowolnym kształcie
DESCRIPTION:Ciekawe \, niewymagające (I) warsztaty dla wszystkich otwartych na nowe\, kreatywne doświadczenia. Także dla osób które z tworzeniem ceramiki będą miały do czynienia po raz pierwszy 🙂 \nWykonane prace będą gotowe do obioru albo szkliwienia po 2 tygodniach. \nNależy je odebrać lub poszkliwić w ciągu kolejnych 4 tygodni.
URL:https://terraarte.pl/event/warsztaty-ceramiki-artystycznej-i-misy-i-miseczki-5/
END:VEVENT
BEGIN:VEVENT
DTSTART;TZID=Europe/Warsaw:20260129T190000
DTEND;TZID=Europe/Warsaw:20260129T210000
DTSTAMP:20260419T181757
CREATED:20251204T135740Z
LAST-MODIFIED:20251229T220644Z
UID:6026-1769713200-1769720400@terraarte.pl
SUMMARY:Kubek z dekoracją odciskaną
DESCRIPTION:Ciekawe \, niewymagające (I) warsztaty dla wszystkich otwartych na nowe\, kreatywne doświadczenia. Także dla osób które z tworzeniem ceramiki będą miały do czynienia po raz pierwszy 🙂 \nWykonane prace będą gotowe do obioru albo szkliwienia po 2 tygodniach. \nNależy je odebrać lub poszkliwić w ciągu kolejnych 4 tygodni.
URL:https://terraarte.pl/event/warsztaty-ceramiki-artystycznej-i-kubek-z-odciskana-dekoracja/
END:VEVENT
BEGIN:VEVENT
DTSTART;TZID=Europe/Warsaw:20260128T190000
DTEND;TZID=Europe/Warsaw:20260128T210000
DTSTAMP:20260419T181757
CREATED:20251204T123550Z
LAST-MODIFIED:20251204T134643Z
UID:6014-1769626800-1769634000@terraarte.pl
SUMMARY:Szkliwienie i malowanie prac
DESCRIPTION:Szkliwienie prac to wykańczanie wykonanych wcześniej i już wstępnie wypalonych na tzw.biskwit przedmiotów tak\, aby zyskały kolor\, połysk i nieprzesiąkliwość. Szkliwienie podnosi więc walory estetyczne i użytkowe naczyń. Polega na nałożeniu warstwy jednego lub kilku szkliw na powierzchnię naczynia przed ponownym wypaleniem. \nW pracowni znajdziecie szeroki wachlarz szkliw które dopasujecie do swoich naczyń i gustów 🙂 \nMajolika to technika polegająca na malowaniu dekoracji na świeżo nałożonym białym szkliwie. \nPozwala uzyskać niezwykłe efekty dekoracyjne.
URL:https://terraarte.pl/event/szkliwienie-i-malowanie-prac-5/
ATTACH;FMTTYPE=image/jpeg:https://terraarte.pl/wp-content/uploads/2019/07/painting-ceramics-female-ceramist-try-different-color-pottery-cup-during-workshop-master-class-scaled.jpg
END:VEVENT
BEGIN:VEVENT
DTSTART;TZID=Europe/Warsaw:20260127T190000
DTEND;TZID=Europe/Warsaw:20260127T210000
DTSTAMP:20260419T181757
CREATED:20260102T230042Z
LAST-MODIFIED:20260102T230042Z
UID:6081-1769540400-1769547600@terraarte.pl
SUMMARY:Filiżanka ze spodkiem
DESCRIPTION:Ciekawe \, niewymagające (I) warsztaty dla wszystkich otwartych na nowe\, kreatywne doświadczenia. Także dla osób które z tworzeniem ceramiki będą miały do czynienia po raz pierwszy 🙂 \nWykonane prace będą gotowe do obioru albo szkliwienia po 2 tygodniach. \nNależy je odebrać lub poszkliwić w ciągu kolejnych 4 tygodni.
URL:https://terraarte.pl/event/filizanka-ze-spodkiem-2/
END:VEVENT
BEGIN:VEVENT
DTSTART;TZID=Europe/Warsaw:20260126T190000
DTEND;TZID=Europe/Warsaw:20260126T210000
DTSTAMP:20260419T181757
CREATED:20260126T192739Z
LAST-MODIFIED:20260126T192739Z
UID:6141-1769454000-1769461200@terraarte.pl
SUMMARY:Ozdobna rawierka na przekąski
DESCRIPTION:Ciekawe \, niewymagające (I) warsztaty dla wszystkich otwartych na nowe\, kreatywne doświadczenia. Także dla osób które z tworzeniem ceramiki będą miały do czynienia po raz pierwszy 🙂 \nWykonane prace będą gotowe do obioru albo szkliwienia po 2 tygodniach. \nNależy je odebrać lub poszkliwić w ciągu kolejnych 4 tygodni.
URL:https://terraarte.pl/event/ozdobna-rawierka-na-przekaski/
END:VEVENT
END:VCALENDAR