BEGIN:VCALENDAR
VERSION:2.0
PRODID:-//Terra Arte - ECPv6.15.20//NONSGML v1.0//EN
CALSCALE:GREGORIAN
METHOD:PUBLISH
X-WR-CALNAME:Terra Arte
X-ORIGINAL-URL:https://terraarte.pl
X-WR-CALDESC:Wydarzenia dla Terra Arte
REFRESH-INTERVAL;VALUE=DURATION:PT1H
X-Robots-Tag:noindex
X-PUBLISHED-TTL:PT1H
BEGIN:VTIMEZONE
TZID:Europe/Warsaw
BEGIN:DAYLIGHT
TZOFFSETFROM:+0100
TZOFFSETTO:+0200
TZNAME:CEST
DTSTART:20250330T010000
END:DAYLIGHT
BEGIN:STANDARD
TZOFFSETFROM:+0200
TZOFFSETTO:+0100
TZNAME:CET
DTSTART:20251026T010000
END:STANDARD
BEGIN:DAYLIGHT
TZOFFSETFROM:+0100
TZOFFSETTO:+0200
TZNAME:CEST
DTSTART:20260329T010000
END:DAYLIGHT
BEGIN:STANDARD
TZOFFSETFROM:+0200
TZOFFSETTO:+0100
TZNAME:CET
DTSTART:20261025T010000
END:STANDARD
BEGIN:DAYLIGHT
TZOFFSETFROM:+0100
TZOFFSETTO:+0200
TZNAME:CEST
DTSTART:20270328T010000
END:DAYLIGHT
BEGIN:STANDARD
TZOFFSETFROM:+0200
TZOFFSETTO:+0100
TZNAME:CET
DTSTART:20271031T010000
END:STANDARD
END:VTIMEZONE
BEGIN:VEVENT
DTSTART;TZID=Europe/Warsaw:20260421T190000
DTEND;TZID=Europe/Warsaw:20260421T210000
DTSTAMP:20260419T164108
CREATED:20260126T190304Z
LAST-MODIFIED:20260126T190304Z
UID:6137-1776798000-1776805200@terraarte.pl
SUMMARY:Zestaw do parzenia herbaty / kawy
DESCRIPTION:Nieco bardziej zaawansowane (II)\, warsztaty dla wszystkich otwartych na nowe\, kreatywne doświadczenia. Przeznaczone zwłaszcza dla osób które lubią rękodzieło i prace manualne i nie obawiają się wyzwań ! Zapewniam jednak\, że dzięki instrukcjom\, krok po kroku\, proponowane naczynie wykona także niewtajemniczony uczestnik 🙂 \nWykonane prace będą gotowe do obioru albo szkliwienia po 2 tygodniach. \nNależy je odebrać lub poszkliwić w ciągu kolejnych 4 tygodni.
URL:https://terraarte.pl/event/zestaw-do-parzenia-herbaty-kawy-3/
END:VEVENT
BEGIN:VEVENT
DTSTART;TZID=Europe/Warsaw:20260422T190000
DTEND;TZID=Europe/Warsaw:20260422T210000
DTSTAMP:20260419T164108
CREATED:20260126T185256Z
LAST-MODIFIED:20260126T185256Z
UID:6127-1776884400-1776891600@terraarte.pl
SUMMARY:Szkliwienie i malowanie prac
DESCRIPTION:Szkliwienie prac to wykańczanie wykonanych wcześniej i już wstępnie wypalonych na tzw.biskwit przedmiotów tak\, aby zyskały kolor\, połysk i nieprzesiąkliwość. Szkliwienie podnosi więc walory estetyczne i użytkowe naczyń. Polega na nałożeniu warstwy jednego lub kilku szkliw na powierzchnię naczynia przed ponownym wypaleniem. \nW pracowni znajdziecie szeroki wachlarz szkliw które dopasujecie do swoich naczyń i gustów 🙂 \nNa zajęciach istnieje możliwość wykonanie dekoracji malowanej na powierzchni szkliwa\, tzw. majoliki. \nPozwala ona uzyskać niezwykłe efekty dekoracyjne\, niemożliwe do osiągnięcia przy zastosowaniu samych szkliw.
URL:https://terraarte.pl/event/szkliwienie-i-malowanie-prac-17/
ATTACH;FMTTYPE=image/jpeg:https://terraarte.pl/wp-content/uploads/2019/07/painting-ceramics-female-ceramist-try-different-color-pottery-cup-during-workshop-master-class-scaled.jpg
END:VEVENT
BEGIN:VEVENT
DTSTART;TZID=Europe/Warsaw:20260423T190000
DTEND;TZID=Europe/Warsaw:20260423T210000
DTSTAMP:20260419T164108
CREATED:20260126T192921Z
LAST-MODIFIED:20260126T192921Z
UID:6144-1776970800-1776978000@terraarte.pl
SUMMARY:Ozdobna rawierka na przekąski
DESCRIPTION:Ciekawe \, niewymagające (I) warsztaty dla wszystkich otwartych na nowe\, kreatywne doświadczenia. Także dla osób które z tworzeniem ceramiki będą miały do czynienia po raz pierwszy 🙂 \nWykonane prace będą gotowe do obioru albo szkliwienia po 2 tygodniach. \nNależy je odebrać lub poszkliwić w ciągu kolejnych 4 tygodni.
URL:https://terraarte.pl/event/ozdobna-rawierka-na-przekaski-2/
END:VEVENT
BEGIN:VEVENT
DTSTART;TZID=Europe/Warsaw:20260428T190000
DTEND;TZID=Europe/Warsaw:20260428T210000
DTSTAMP:20260419T164108
CREATED:20260126T194004Z
LAST-MODIFIED:20260126T194004Z
UID:6148-1777402800-1777410000@terraarte.pl
SUMMARY:Pojemnik z pokrywką na herbatę
DESCRIPTION:Nieco bardziej zaawansowane (II)\, warsztaty dla wszystkich otwartych na nowe\, kreatywne doświadczenia. Przeznaczone zwłaszcza dla osób które lubią rękodzieło i prace manualne i nie obawiają się wyzwań ! Zapewniam jednak\, że dzięki instrukcjom\, krok po kroku\, proponowane naczynie wykona także niewtajemniczony uczestnik 🙂 \nWykonane prace będą gotowe do obioru albo szkliwienia po 2 tygodniach. \nNależy je odebrać lub poszkliwić w ciągu kolejnych 4 tygodni.
URL:https://terraarte.pl/event/pojemnik-z-pokrywka-na-herbate/
END:VEVENT
BEGIN:VEVENT
DTSTART;TZID=Europe/Warsaw:20260429T190000
DTEND;TZID=Europe/Warsaw:20260429T210000
DTSTAMP:20260419T164108
CREATED:20260126T185502Z
LAST-MODIFIED:20260126T185502Z
UID:6129-1777489200-1777496400@terraarte.pl
SUMMARY:Szkliwienie i malowanie prac
DESCRIPTION:Szkliwienie prac to wykańczanie wykonanych wcześniej i już wstępnie wypalonych na tzw.biskwit przedmiotów tak\, aby zyskały kolor\, połysk i nieprzesiąkliwość. Szkliwienie podnosi więc walory estetyczne i użytkowe naczyń. Polega na nałożeniu warstwy jednego lub kilku szkliw na powierzchnię naczynia przed ponownym wypaleniem. \nW pracowni znajdziecie szeroki wachlarz szkliw które dopasujecie do swoich naczyń i gustów 🙂 \nNa zajęciach istnieje możliwość wykonanie dekoracji malowanej na powierzchni szkliwa\, tzw. majoliki. \nPozwala ona uzyskać niezwykłe efekty dekoracyjne\, niemożliwe do osiągnięcia przy zastosowaniu samych szkliw.
URL:https://terraarte.pl/event/szkliwienie-i-malowanie-prac-18/
ATTACH;FMTTYPE=image/jpeg:https://terraarte.pl/wp-content/uploads/2019/07/painting-ceramics-female-ceramist-try-different-color-pottery-cup-during-workshop-master-class-scaled.jpg
END:VEVENT
BEGIN:VEVENT
DTSTART;TZID=Europe/Warsaw:20260430T190000
DTEND;TZID=Europe/Warsaw:20260430T210000
DTSTAMP:20260419T164108
CREATED:20260126T194206Z
LAST-MODIFIED:20260126T194206Z
UID:6150-1777575600-1777582800@terraarte.pl
SUMMARY:Filiżanka ze spodkiem
DESCRIPTION:Ciekawe \, niewymagające (I) warsztaty dla wszystkich otwartych na nowe\, kreatywne doświadczenia. Także dla osób które z tworzeniem ceramiki będą miały do czynienia po raz pierwszy 🙂 \nWykonane prace będą gotowe do obioru albo szkliwienia po 2 tygodniach. \nNależy je odebrać lub poszkliwić w ciągu kolejnych 4 tygodni.
URL:https://terraarte.pl/event/filizanka-ze-spodkiem-5/
END:VEVENT
BEGIN:VEVENT
DTSTART;TZID=Europe/Warsaw:20260506T190000
DTEND;TZID=Europe/Warsaw:20260506T210000
DTSTAMP:20260419T164108
CREATED:20260406T201412Z
LAST-MODIFIED:20260406T201412Z
UID:6182-1778094000-1778101200@terraarte.pl
SUMMARY:Szkliwienie i malowanie prac
DESCRIPTION:Szkliwienie prac to wykańczanie wykonanych wcześniej i już wstępnie wypalonych na tzw.biskwit przedmiotów tak\, aby zyskały kolor\, połysk i nieprzesiąkliwość. Szkliwienie podnosi więc walory estetyczne i użytkowe naczyń. Polega na nałożeniu warstwy jednego lub kilku szkliw na powierzchnię naczynia przed ponownym wypaleniem. \nW pracowni znajdziecie szeroki wachlarz szkliw które dopasujecie do swoich naczyń i gustów 🙂 \nNa zajęciach istnieje możliwość wykonanie dekoracji malowanej na powierzchni szkliwa\, tzw. majoliki. \nPozwala ona uzyskać niezwykłe efekty dekoracyjne\, niemożliwe do osiągnięcia przy zastosowaniu samych szkliw.
URL:https://terraarte.pl/event/szkliwienie-i-malowanie-prac-19/
ATTACH;FMTTYPE=image/jpeg:https://terraarte.pl/wp-content/uploads/2019/07/painting-ceramics-female-ceramist-try-different-color-pottery-cup-during-workshop-master-class-scaled.jpg
END:VEVENT
BEGIN:VEVENT
DTSTART;TZID=Europe/Warsaw:20260507T190000
DTEND;TZID=Europe/Warsaw:20260507T210000
DTSTAMP:20260419T164108
CREATED:20260406T205349Z
LAST-MODIFIED:20260406T205349Z
UID:6194-1778180400-1778187600@terraarte.pl
SUMMARY:Miseczki  w dowolnym kształcie
DESCRIPTION:Ciekawe \, niewymagające (I) warsztaty dla wszystkich otwartych na nowe\, kreatywne doświadczenia. Także dla osób które z tworzeniem ceramiki będą miały do czynienia po raz pierwszy 🙂 \nWykonane prace będą gotowe do obioru albo szkliwienia po 2 tygodniach. \nNależy je odebrać lub poszkliwić w ciągu kolejnych 4 tygodni.
URL:https://terraarte.pl/event/miseczki-w-dowolnym-ksztalcie-3/
END:VEVENT
BEGIN:VEVENT
DTSTART;TZID=Europe/Warsaw:20260519T190000
DTEND;TZID=Europe/Warsaw:20260519T210000
DTSTAMP:20260419T164108
CREATED:20260406T211943Z
LAST-MODIFIED:20260406T211943Z
UID:6199-1779217200-1779224400@terraarte.pl
SUMMARY:Kubek z plastyczną  dekoracją
DESCRIPTION:Ciekawe \, niewymagające (I) warsztaty dla wszystkich otwartych na nowe\, kreatywne doświadczenia. Także dla osób które z tworzeniem ceramiki będą miały do czynienia po raz pierwszy 🙂 \nWykonane prace będą gotowe do obioru albo szkliwienia po 2 tygodniach. \nNależy je odebrać lub poszkliwić w ciągu kolejnych 4 tygodni.
URL:https://terraarte.pl/event/kubek-z-plastyczna-dekoracja-3/
END:VEVENT
BEGIN:VEVENT
DTSTART;TZID=Europe/Warsaw:20260520T190000
DTEND;TZID=Europe/Warsaw:20260520T210000
DTSTAMP:20260419T164108
CREATED:20260406T201738Z
LAST-MODIFIED:20260406T201738Z
UID:6184-1779303600-1779310800@terraarte.pl
SUMMARY:Szkliwienie i malowanie prac
DESCRIPTION:Szkliwienie prac to wykańczanie wykonanych wcześniej i już wstępnie wypalonych na tzw.biskwit przedmiotów tak\, aby zyskały kolor\, połysk i nieprzesiąkliwość. Szkliwienie podnosi więc walory estetyczne i użytkowe naczyń. Polega na nałożeniu warstwy jednego lub kilku szkliw na powierzchnię naczynia przed ponownym wypaleniem. \nW pracowni znajdziecie szeroki wachlarz szkliw które dopasujecie do swoich naczyń i gustów 🙂 \nNa zajęciach istnieje możliwość wykonanie dekoracji malowanej na powierzchni szkliwa\, tzw. majoliki. \nPozwala ona uzyskać niezwykłe efekty dekoracyjne\, niemożliwe do osiągnięcia przy zastosowaniu samych szkliw.
URL:https://terraarte.pl/event/szkliwienie-i-malowanie-prac-20/
ATTACH;FMTTYPE=image/jpeg:https://terraarte.pl/wp-content/uploads/2019/07/painting-ceramics-female-ceramist-try-different-color-pottery-cup-during-workshop-master-class-scaled.jpg
END:VEVENT
BEGIN:VEVENT
DTSTART;TZID=Europe/Warsaw:20260521T190000
DTEND;TZID=Europe/Warsaw:20260521T210000
DTSTAMP:20260419T164108
CREATED:20260406T211557Z
LAST-MODIFIED:20260406T211557Z
UID:6196-1779390000-1779397200@terraarte.pl
SUMMARY:Kubek Jumbo
DESCRIPTION:Nieco bardziej zaawansowane (II)\, warsztaty dla wszystkich otwartych na nowe\, kreatywne doświadczenia. Przeznaczone zwłaszcza dla osób które lubią rękodzieło i prace manualne i nie obawiają się wyzwań ! Zapewniam jednak\, że dzięki instrukcjom\, krok po kroku\, proponowane naczynie wykona także niewtajemniczony uczestnik 🙂 \nWykonane prace będą gotowe do obioru albo szkliwienia po 2 tygodniach. \nNależy je odebrać lub poszkliwić w ciągu kolejnych 4 tygodni.
URL:https://terraarte.pl/event/kubek-jumbo/
END:VEVENT
BEGIN:VEVENT
DTSTART;TZID=Europe/Warsaw:20260526T190000
DTEND;TZID=Europe/Warsaw:20260526T210000
DTSTAMP:20260419T164108
CREATED:20260406T212239Z
LAST-MODIFIED:20260406T212239Z
UID:6201-1779822000-1779829200@terraarte.pl
SUMMARY:Ozdobna rawierka na przekąski
DESCRIPTION:Ciekawe \, niewymagające (I) warsztaty dla wszystkich otwartych na nowe\, kreatywne doświadczenia. Także dla osób które z tworzeniem ceramiki będą miały do czynienia po raz pierwszy 🙂 \nWykonane prace będą gotowe do obioru albo szkliwienia po 2 tygodniach. \nNależy je odebrać lub poszkliwić w ciągu kolejnych 4 tygodni.
URL:https://terraarte.pl/event/ozdobna-rawierka-na-przekaski-3/
END:VEVENT
BEGIN:VEVENT
DTSTART;TZID=Europe/Warsaw:20260527T190000
DTEND;TZID=Europe/Warsaw:20260527T210000
DTSTAMP:20260419T164108
CREATED:20260406T202051Z
LAST-MODIFIED:20260406T202051Z
UID:6187-1779908400-1779915600@terraarte.pl
SUMMARY:Szkliwienie i malowanie prac
DESCRIPTION:Szkliwienie prac to wykańczanie wykonanych wcześniej i już wstępnie wypalonych na tzw.biskwit przedmiotów tak\, aby zyskały kolor\, połysk i nieprzesiąkliwość. Szkliwienie podnosi więc walory estetyczne i użytkowe naczyń. Polega na nałożeniu warstwy jednego lub kilku szkliw na powierzchnię naczynia przed ponownym wypaleniem. \nW pracowni znajdziecie szeroki wachlarz szkliw które dopasujecie do swoich naczyń i gustów 🙂 \nNa zajęciach istnieje możliwość wykonanie dekoracji malowanej na powierzchni szkliwa\, tzw. majoliki. \nPozwala ona uzyskać niezwykłe efekty dekoracyjne\, niemożliwe do osiągnięcia przy zastosowaniu samych szkliw.
URL:https://terraarte.pl/event/szkliwienie-i-malowanie-prac-21/
ATTACH;FMTTYPE=image/jpeg:https://terraarte.pl/wp-content/uploads/2019/07/painting-ceramics-female-ceramist-try-different-color-pottery-cup-during-workshop-master-class-scaled.jpg
END:VEVENT
BEGIN:VEVENT
DTSTART;TZID=Europe/Warsaw:20260528T190000
DTEND;TZID=Europe/Warsaw:20260528T210000
DTSTAMP:20260419T164108
CREATED:20260406T212502Z
LAST-MODIFIED:20260406T212502Z
UID:6203-1779994800-1780002000@terraarte.pl
SUMMARY:Pojemnik z pokrywką na herbatę
DESCRIPTION:Nieco bardziej zaawansowane (II)\, warsztaty dla wszystkich otwartych na nowe\, kreatywne doświadczenia. Przeznaczone zwłaszcza dla osób które lubią rękodzieło i prace manualne i nie obawiają się wyzwań ! Zapewniam jednak\, że dzięki instrukcjom\, krok po kroku\, proponowane naczynie wykona także niewtajemniczony uczestnik 🙂 \nWykonane prace będą gotowe do obioru albo szkliwienia po 2 tygodniach. \nNależy je odebrać lub poszkliwić w ciągu kolejnych 4 tygodni.
URL:https://terraarte.pl/event/pojemnik-z-pokrywka-na-herbate-2/
END:VEVENT
BEGIN:VEVENT
DTSTART;TZID=Europe/Warsaw:20260602T190000
DTEND;TZID=Europe/Warsaw:20260602T210000
DTSTAMP:20260419T164108
CREATED:20260406T212927Z
LAST-MODIFIED:20260406T212927Z
UID:6205-1780426800-1780434000@terraarte.pl
SUMMARY:Ażurowa patera ( owocarka )
DESCRIPTION:Nieco bardziej zaawansowane (II)\, warsztaty dla wszystkich otwartych na nowe\, kreatywne doświadczenia. Przeznaczone zwłaszcza dla osób które lubią rękodzieło i prace manualne i nie obawiają się wyzwań ! Zapewniam jednak\, że dzięki instrukcjom\, krok po kroku\, proponowane naczynie wykona także niewtajemniczony uczestnik 🙂 \nWykonane prace będą gotowe do obioru albo szkliwienia po 2 tygodniach. \nNależy je odebrać lub poszkliwić w ciągu kolejnych 4 tygodni.
URL:https://terraarte.pl/event/azurowa-patera-owocarka-3/
END:VEVENT
BEGIN:VEVENT
DTSTART;TZID=Europe/Warsaw:20260609T190000
DTEND;TZID=Europe/Warsaw:20260609T210000
DTSTAMP:20260419T164108
CREATED:20260406T213333Z
LAST-MODIFIED:20260406T213333Z
UID:6207-1781031600-1781038800@terraarte.pl
SUMMARY:Filiżanka ze spodkiem
DESCRIPTION:Ciekawe \, niewymagające (I) warsztaty dla wszystkich otwartych na nowe\, kreatywne doświadczenia. Także dla osób które z tworzeniem ceramiki będą miały do czynienia po raz pierwszy 🙂 \nWykonane prace będą gotowe do obioru albo szkliwienia po 2 tygodniach. \nNależy je odebrać lub poszkliwić w ciągu kolejnych 4 tygodni.
URL:https://terraarte.pl/event/filizanka-ze-spodkiem-6/
END:VEVENT
BEGIN:VEVENT
DTSTART;TZID=Europe/Warsaw:20260610T190000
DTEND;TZID=Europe/Warsaw:20260610T210000
DTSTAMP:20260419T164108
CREATED:20260406T202421Z
LAST-MODIFIED:20260406T202421Z
UID:6189-1781118000-1781125200@terraarte.pl
SUMMARY:Szkliwienie i malowanie prac
DESCRIPTION:Szkliwienie prac to wykańczanie wykonanych wcześniej i już wstępnie wypalonych na tzw.biskwit przedmiotów tak\, aby zyskały kolor\, połysk i nieprzesiąkliwość. Szkliwienie podnosi więc walory estetyczne i użytkowe naczyń. Polega na nałożeniu warstwy jednego lub kilku szkliw na powierzchnię naczynia przed ponownym wypaleniem. \nW pracowni znajdziecie szeroki wachlarz szkliw które dopasujecie do swoich naczyń i gustów 🙂 \nNa zajęciach istnieje możliwość wykonanie dekoracji malowanej na powierzchni szkliwa\, tzw. majoliki. \nPozwala ona uzyskać niezwykłe efekty dekoracyjne\, niemożliwe do osiągnięcia przy zastosowaniu samych szkliw.
URL:https://terraarte.pl/event/szkliwienie-i-malowanie-prac-22/
ATTACH;FMTTYPE=image/jpeg:https://terraarte.pl/wp-content/uploads/2019/07/painting-ceramics-female-ceramist-try-different-color-pottery-cup-during-workshop-master-class-scaled.jpg
END:VEVENT
BEGIN:VEVENT
DTSTART;TZID=Europe/Warsaw:20260611T190000
DTEND;TZID=Europe/Warsaw:20260611T210000
DTSTAMP:20260419T164108
CREATED:20260406T213948Z
LAST-MODIFIED:20260406T213948Z
UID:6211-1781204400-1781211600@terraarte.pl
SUMMARY:Miseczki  w dowolnym  kształcie
DESCRIPTION:Ciekawe \, niewymagające (I) warsztaty dla wszystkich otwartych na nowe\, kreatywne doświadczenia. Także dla osób które z tworzeniem ceramiki będą miały do czynienia po raz pierwszy 🙂 \nWykonane prace będą gotowe do obioru albo szkliwienia po 2 tygodniach. \nNależy je odebrać lub poszkliwić w ciągu kolejnych 4 tygodni.
URL:https://terraarte.pl/event/miseczki-w-dowolnym-ksztalcie-4/
END:VEVENT
BEGIN:VEVENT
DTSTART;TZID=Europe/Warsaw:20260616T190000
DTEND;TZID=Europe/Warsaw:20260616T210000
DTSTAMP:20260419T164108
CREATED:20260406T213720Z
LAST-MODIFIED:20260406T213720Z
UID:6209-1781636400-1781643600@terraarte.pl
SUMMARY:Kubek Jumbo
DESCRIPTION:Nieco bardziej zaawansowane (II)\, warsztaty dla wszystkich otwartych na nowe\, kreatywne doświadczenia. Przeznaczone zwłaszcza dla osób które lubią rękodzieło i prace manualne i nie obawiają się wyzwań ! Zapewniam jednak\, że dzięki instrukcjom\, krok po kroku\, proponowane naczynie wykona także niewtajemniczony uczestnik 🙂 \nWykonane prace będą gotowe do obioru albo szkliwienia po 2 tygodniach. \nNależy je odebrać lub poszkliwić w ciągu kolejnych 4 tygodni.
URL:https://terraarte.pl/event/kubek-jumbo-2/
END:VEVENT
BEGIN:VEVENT
DTSTART;TZID=Europe/Warsaw:20260618T190000
DTEND;TZID=Europe/Warsaw:20260618T210000
DTSTAMP:20260419T164108
CREATED:20260406T214254Z
LAST-MODIFIED:20260406T214254Z
UID:6213-1781809200-1781816400@terraarte.pl
SUMMARY:Ozdobna rawierka na przekąski
DESCRIPTION:Ciekawe \, niewymagające (I) warsztaty dla wszystkich otwartych na nowe\, kreatywne doświadczenia. Także dla osób które z tworzeniem ceramiki będą miały do czynienia po raz pierwszy 🙂 \nWykonane prace będą gotowe do obioru albo szkliwienia po 2 tygodniach. \nNależy je odebrać lub poszkliwić w ciągu kolejnych 4 tygodni.
URL:https://terraarte.pl/event/ozdobna-rawierka-na-przekaski-4/
END:VEVENT
BEGIN:VEVENT
DTSTART;TZID=Europe/Warsaw:20260623T190000
DTEND;TZID=Europe/Warsaw:20260623T210000
DTSTAMP:20260419T164108
CREATED:20260406T214513Z
LAST-MODIFIED:20260406T214513Z
UID:6215-1782241200-1782248400@terraarte.pl
SUMMARY:Kubek z plastyczną  dekoracją
DESCRIPTION:Ciekawe \, niewymagające (I) warsztaty dla wszystkich otwartych na nowe\, kreatywne doświadczenia. Także dla osób które z tworzeniem ceramiki będą miały do czynienia po raz pierwszy 🙂 \nWykonane prace będą gotowe do obioru albo szkliwienia po 2 tygodniach. \nNależy je odebrać lub poszkliwić w ciągu kolejnych 4 tygodni.
URL:https://terraarte.pl/event/kubek-z-plastyczna-dekoracja-4/
END:VEVENT
BEGIN:VEVENT
DTSTART;TZID=Europe/Warsaw:20260624T190000
DTEND;TZID=Europe/Warsaw:20260624T210000
DTSTAMP:20260419T164108
CREATED:20260406T204628Z
LAST-MODIFIED:20260406T204628Z
UID:6191-1782327600-1782334800@terraarte.pl
SUMMARY:Szkliwienie i malowanie prac
DESCRIPTION:Szkliwienie prac to wykańczanie wykonanych wcześniej i już wstępnie wypalonych na tzw.biskwit przedmiotów tak\, aby zyskały kolor\, połysk i nieprzesiąkliwość. Szkliwienie podnosi więc walory estetyczne i użytkowe naczyń. Polega na nałożeniu warstwy jednego lub kilku szkliw na powierzchnię naczynia przed ponownym wypaleniem. \nW pracowni znajdziecie szeroki wachlarz szkliw które dopasujecie do swoich naczyń i gustów 🙂 \nNa zajęciach istnieje możliwość wykonanie dekoracji malowanej na powierzchni szkliwa\, tzw. majoliki. \nPozwala ona uzyskać niezwykłe efekty dekoracyjne\, niemożliwe do osiągnięcia przy zastosowaniu samych szkliw.
URL:https://terraarte.pl/event/szkliwienie-i-malowanie-prac-23/
ATTACH;FMTTYPE=image/jpeg:https://terraarte.pl/wp-content/uploads/2019/07/painting-ceramics-female-ceramist-try-different-color-pottery-cup-during-workshop-master-class-scaled.jpg
END:VEVENT
BEGIN:VEVENT
DTSTART;TZID=Europe/Warsaw:20260625T190000
DTEND;TZID=Europe/Warsaw:20260625T210000
DTSTAMP:20260419T164108
CREATED:20260406T214728Z
LAST-MODIFIED:20260406T214728Z
UID:6217-1782414000-1782421200@terraarte.pl
SUMMARY:Pojemnik z pokrywką na herbatę
DESCRIPTION:Nieco bardziej zaawansowane (II)\, warsztaty dla wszystkich otwartych na nowe\, kreatywne doświadczenia. Przeznaczone zwłaszcza dla osób które lubią rękodzieło i prace manualne i nie obawiają się wyzwań ! Zapewniam jednak\, że dzięki instrukcjom\, krok po kroku\, proponowane naczynie wykona także niewtajemniczony uczestnik 🙂 \nWykonane prace będą gotowe do obioru albo szkliwienia po 2 tygodniach. \nNależy je odebrać lub poszkliwić w ciągu kolejnych 4 tygodni.
URL:https://terraarte.pl/event/pojemnik-z-pokrywka-na-herbate-3/
END:VEVENT
BEGIN:VEVENT
DTSTART;TZID=Europe/Warsaw:20260630T190000
DTEND;TZID=Europe/Warsaw:20260630T210000
DTSTAMP:20260419T164108
CREATED:20260406T223239Z
LAST-MODIFIED:20260406T223239Z
UID:6219-1782846000-1782853200@terraarte.pl
SUMMARY:Unikatowy świecznik
DESCRIPTION:Ciekawe \, niewymagające (I) warsztaty dla wszystkich otwartych na nowe\, kreatywne doświadczenia. Także dla osób które z tworzeniem ceramiki będą miały do czynienia po raz pierwszy 🙂 \nWykonane prace będą gotowe do obioru albo szkliwienia po 2 tygodniach. \nNależy je odebrać lub poszkliwić w ciągu kolejnych 4 tygodni.
URL:https://terraarte.pl/event/unikatowy-swiecznik/
END:VEVENT
END:VCALENDAR