BEGIN:VCALENDAR
VERSION:2.0
PRODID:-//Terra Arte - ECPv6.15.20//NONSGML v1.0//EN
CALSCALE:GREGORIAN
METHOD:PUBLISH
X-ORIGINAL-URL:https://terraarte.pl
X-WR-CALDESC:Wydarzenia dla Terra Arte
REFRESH-INTERVAL;VALUE=DURATION:PT1H
X-Robots-Tag:noindex
X-PUBLISHED-TTL:PT1H
BEGIN:VTIMEZONE
TZID:Europe/Warsaw
BEGIN:DAYLIGHT
TZOFFSETFROM:+0100
TZOFFSETTO:+0200
TZNAME:CEST
DTSTART:20240331T010000
END:DAYLIGHT
BEGIN:STANDARD
TZOFFSETFROM:+0200
TZOFFSETTO:+0100
TZNAME:CET
DTSTART:20241027T010000
END:STANDARD
BEGIN:DAYLIGHT
TZOFFSETFROM:+0100
TZOFFSETTO:+0200
TZNAME:CEST
DTSTART:20250330T010000
END:DAYLIGHT
BEGIN:STANDARD
TZOFFSETFROM:+0200
TZOFFSETTO:+0100
TZNAME:CET
DTSTART:20251026T010000
END:STANDARD
BEGIN:DAYLIGHT
TZOFFSETFROM:+0100
TZOFFSETTO:+0200
TZNAME:CEST
DTSTART:20260329T010000
END:DAYLIGHT
BEGIN:STANDARD
TZOFFSETFROM:+0200
TZOFFSETTO:+0100
TZNAME:CET
DTSTART:20261025T010000
END:STANDARD
BEGIN:DAYLIGHT
TZOFFSETFROM:+0100
TZOFFSETTO:+0200
TZNAME:CEST
DTSTART:20270328T010000
END:DAYLIGHT
BEGIN:STANDARD
TZOFFSETFROM:+0200
TZOFFSETTO:+0100
TZNAME:CET
DTSTART:20271031T010000
END:STANDARD
END:VTIMEZONE
BEGIN:VEVENT
DTSTART;TZID=Europe/Warsaw:20260210T190000
DTEND;TZID=Europe/Warsaw:20260210T210000
DTSTAMP:20260419T213321
CREATED:20260102T232428Z
LAST-MODIFIED:20260102T232428Z
UID:6084-1770750000-1770757200@terraarte.pl
SUMMARY:Zestaw do parzenia herbaty / kawy
DESCRIPTION:Nieco bardziej zaawansowane (II)\, warsztaty dla wszystkich otwartych na nowe\, kreatywne doświadczenia. Przeznaczone zwłaszcza dla osób które lubią rękodzieło i prace manualne i nie obawiają się wyzwań ! Zapewniam jednak\, że dzięki instrukcjom\, krok po kroku\, proponowane naczynie wykona także niewtajemniczony uczestnik 🙂 \nWykonane prace będą gotowe do obioru albo szkliwienia po 2 tygodniach. \nNależy je odebrać lub poszkliwić w ciągu kolejnych 4 tygodni.
URL:https://terraarte.pl/event/zestaw-do-parzenia-herbaty-kawy/
END:VEVENT
BEGIN:VEVENT
DTSTART;TZID=Europe/Warsaw:20260205T190000
DTEND;TZID=Europe/Warsaw:20260205T210000
DTSTAMP:20260419T213321
CREATED:20251204T140103Z
LAST-MODIFIED:20251229T220528Z
UID:6030-1770318000-1770325200@terraarte.pl
SUMMARY:Miseczki w dowolnym kształcie
DESCRIPTION:Ciekawe \, niewymagające (I) warsztaty dla wszystkich otwartych na nowe\, kreatywne doświadczenia. Także dla osób które z tworzeniem ceramiki będą miały do czynienia po raz pierwszy 🙂 \nWykonane prace będą gotowe do obioru albo szkliwienia po 2 tygodniach. \nNależy je odebrać lub poszkliwić w ciągu kolejnych 4 tygodni.
URL:https://terraarte.pl/event/warsztaty-ceramiki-artystycznej-i-misy-i-miseczki-5/
END:VEVENT
BEGIN:VEVENT
DTSTART;TZID=Europe/Warsaw:20260129T190000
DTEND;TZID=Europe/Warsaw:20260129T210000
DTSTAMP:20260419T213321
CREATED:20251204T135740Z
LAST-MODIFIED:20251229T220644Z
UID:6026-1769713200-1769720400@terraarte.pl
SUMMARY:Kubek z dekoracją odciskaną
DESCRIPTION:Ciekawe \, niewymagające (I) warsztaty dla wszystkich otwartych na nowe\, kreatywne doświadczenia. Także dla osób które z tworzeniem ceramiki będą miały do czynienia po raz pierwszy 🙂 \nWykonane prace będą gotowe do obioru albo szkliwienia po 2 tygodniach. \nNależy je odebrać lub poszkliwić w ciągu kolejnych 4 tygodni.
URL:https://terraarte.pl/event/warsztaty-ceramiki-artystycznej-i-kubek-z-odciskana-dekoracja/
END:VEVENT
BEGIN:VEVENT
DTSTART;TZID=Europe/Warsaw:20260128T190000
DTEND;TZID=Europe/Warsaw:20260128T210000
DTSTAMP:20260419T213321
CREATED:20251204T123550Z
LAST-MODIFIED:20251204T134643Z
UID:6014-1769626800-1769634000@terraarte.pl
SUMMARY:Szkliwienie i malowanie prac
DESCRIPTION:Szkliwienie prac to wykańczanie wykonanych wcześniej i już wstępnie wypalonych na tzw.biskwit przedmiotów tak\, aby zyskały kolor\, połysk i nieprzesiąkliwość. Szkliwienie podnosi więc walory estetyczne i użytkowe naczyń. Polega na nałożeniu warstwy jednego lub kilku szkliw na powierzchnię naczynia przed ponownym wypaleniem. \nW pracowni znajdziecie szeroki wachlarz szkliw które dopasujecie do swoich naczyń i gustów 🙂 \nMajolika to technika polegająca na malowaniu dekoracji na świeżo nałożonym białym szkliwie. \nPozwala uzyskać niezwykłe efekty dekoracyjne.
URL:https://terraarte.pl/event/szkliwienie-i-malowanie-prac-5/
ATTACH;FMTTYPE=image/jpeg:https://terraarte.pl/wp-content/uploads/2019/07/painting-ceramics-female-ceramist-try-different-color-pottery-cup-during-workshop-master-class-scaled.jpg
END:VEVENT
BEGIN:VEVENT
DTSTART;TZID=Europe/Warsaw:20260127T190000
DTEND;TZID=Europe/Warsaw:20260127T210000
DTSTAMP:20260419T213321
CREATED:20260102T230042Z
LAST-MODIFIED:20260102T230042Z
UID:6081-1769540400-1769547600@terraarte.pl
SUMMARY:Filiżanka ze spodkiem
DESCRIPTION:Ciekawe \, niewymagające (I) warsztaty dla wszystkich otwartych na nowe\, kreatywne doświadczenia. Także dla osób które z tworzeniem ceramiki będą miały do czynienia po raz pierwszy 🙂 \nWykonane prace będą gotowe do obioru albo szkliwienia po 2 tygodniach. \nNależy je odebrać lub poszkliwić w ciągu kolejnych 4 tygodni.
URL:https://terraarte.pl/event/filizanka-ze-spodkiem-2/
END:VEVENT
BEGIN:VEVENT
DTSTART;TZID=Europe/Warsaw:20260126T190000
DTEND;TZID=Europe/Warsaw:20260126T210000
DTSTAMP:20260419T213321
CREATED:20260126T192739Z
LAST-MODIFIED:20260126T192739Z
UID:6141-1769454000-1769461200@terraarte.pl
SUMMARY:Ozdobna rawierka na przekąski
DESCRIPTION:Ciekawe \, niewymagające (I) warsztaty dla wszystkich otwartych na nowe\, kreatywne doświadczenia. Także dla osób które z tworzeniem ceramiki będą miały do czynienia po raz pierwszy 🙂 \nWykonane prace będą gotowe do obioru albo szkliwienia po 2 tygodniach. \nNależy je odebrać lub poszkliwić w ciągu kolejnych 4 tygodni.
URL:https://terraarte.pl/event/ozdobna-rawierka-na-przekaski/
END:VEVENT
BEGIN:VEVENT
DTSTART;TZID=Europe/Warsaw:20260122T190000
DTEND;TZID=Europe/Warsaw:20260122T210000
DTSTAMP:20260419T213321
CREATED:20251202T161906Z
LAST-MODIFIED:20251229T220819Z
UID:5963-1769108400-1769115600@terraarte.pl
SUMMARY:Filiżanka / kubek Jumbo
DESCRIPTION:Nieco bardziej zaawansowane (II)\, warsztaty dla wszystkich otwartych na nowe\, kreatywne doświadczenia. Przeznaczone zwłaszcza dla osób które lubią rękodzieło i prace manualne i nie obawiają się wyzwań ! Zapewniam jednak\, że dzięki instrukcjom\, krok po kroku\, proponowane naczynie wykona także niewtajemniczony uczestnik 🙂 \nWykonane prace będą gotowe do obioru albo szkliwienia po 2 tygodniach. \nNależy je odebrać lub poszkliwić w ciągu kolejnych 4 tygodni.
URL:https://terraarte.pl/event/warsztaty-ceramiki-artystycznej-ii-filizanka-kubek-jumbo-2/
END:VEVENT
BEGIN:VEVENT
DTSTART;TZID=Europe/Warsaw:20260120T190000
DTEND;TZID=Europe/Warsaw:20260120T210000
DTSTAMP:20260419T213321
CREATED:20251229T214542Z
LAST-MODIFIED:20251229T220903Z
UID:6061-1768935600-1768942800@terraarte.pl
SUMMARY:Miseczki  w dowolnym kształcie
DESCRIPTION:Ciekawe \, niewymagające (I) warsztaty dla wszystkich otwartych na nowe\, kreatywne doświadczenia. Także dla osób które z tworzeniem ceramiki będą miały do czynienia po raz pierwszy 🙂 \nWykonane prace będą gotowe do obioru albo szkliwienia po 2 tygodniach. \nNależy je odebrać lub poszkliwić w ciągu kolejnych 4 tygodni.
URL:https://terraarte.pl/event/warsztaty-ceramiki-artystycznej-i-miseczki-w-dowolnym-ksztalcie/
END:VEVENT
BEGIN:VEVENT
DTSTART;TZID=Europe/Warsaw:20260115T190000
DTEND;TZID=Europe/Warsaw:20260115T210000
DTSTAMP:20260419T213321
CREATED:20250707T214758Z
LAST-MODIFIED:20251229T220958Z
UID:5751-1768503600-1768510800@terraarte.pl
SUMMARY:Kubek z plastyczną dekoracją
DESCRIPTION:Ciekawe \, niewymagające (I) warsztaty dla wszystkich otwartych na nowe\, kreatywne doświadczenia. Także dla osób które z tworzeniem ceramiki będą miały do czynienia po raz pierwszy 🙂 \nWykonane prace będą gotowe do obioru albo szkliwienia po 2 tygodniach. \nNależy je odebrać lub poszkliwić w ciągu kolejnych 4 tygodni.
URL:https://terraarte.pl/event/warsztaty-ceramiki-artystycznej-i-kubek-z-dekoracja-nakladana-2/
END:VEVENT
BEGIN:VEVENT
DTSTART;TZID=Europe/Warsaw:20260114T190000
DTEND;TZID=Europe/Warsaw:20260114T210000
DTSTAMP:20260419T213321
CREATED:20251204T115512Z
LAST-MODIFIED:20251204T122709Z
UID:6011-1768417200-1768424400@terraarte.pl
SUMMARY:Szkliwienie i malowanie prac
DESCRIPTION:Szkliwienie prac to wykańczanie wykonanych wcześniej i już wstępnie wypalonych na tzw.biskwit przedmiotów tak\, aby zyskały kolor\, połysk i nieprzesiąkliwość. Szkliwienie podnosi więc walory estetyczne i użytkowe naczyń. Polega na nałożeniu warstwy jednego lub kilku szkliw na powierzchnię naczynia przed ponownym wypaleniem. \nW pracowni znajdziecie szeroki wachlarz szkliw które dopasujecie do swoich naczyń i gustów 🙂 \nMajolika to technika polegająca na malowaniu dekoracji na świeżo nałożonym białym szkliwie. \nPozwala uzyskać niezwykłe efekty dekoracyjne.
URL:https://terraarte.pl/event/szkliwienie-i-malowanie-prac-7/
ATTACH;FMTTYPE=image/jpeg:https://terraarte.pl/wp-content/uploads/2019/07/painting-ceramics-female-ceramist-try-different-color-pottery-cup-during-workshop-master-class-scaled.jpg
END:VEVENT
BEGIN:VEVENT
DTSTART;TZID=Europe/Warsaw:20260108T190000
DTEND;TZID=Europe/Warsaw:20260108T210000
DTSTAMP:20260419T213321
CREATED:20251202T155109Z
LAST-MODIFIED:20251229T221103Z
UID:5958-1767898800-1767906000@terraarte.pl
SUMMARY:Ażurowa patera ( owocarka )
DESCRIPTION:Nieco bardziej zaawansowane (II)\, warsztaty dla wszystkich otwartych na nowe\, kreatywne doświadczenia. Przeznaczone zwłaszcza dla osób które lubią rękodzieło i prace manualne i nie obawiają się wyzwań ! Zapewniam jednak\, że dzięki instrukcjom\, krok po kroku\, proponowane naczynie wykona także niewtajemniczony uczestnik 🙂 \nWykonane prace będą gotowe do obioru albo szkliwienia po 2 tygodniach. \nNależy je odebrać lub poszkliwić w ciągu kolejnych 4 tygodni.
URL:https://terraarte.pl/event/warsztaty-ceramiki-artystycznej-ii-azurowa-patera/
END:VEVENT
BEGIN:VEVENT
DTSTART;TZID=Europe/Warsaw:20251218T190000
DTEND;TZID=Europe/Warsaw:20251218T210000
DTSTAMP:20260419T213321
CREATED:20250707T231844Z
LAST-MODIFIED:20250707T231844Z
UID:5773-1766084400-1766091600@terraarte.pl
SUMMARY:Warsztaty ceramiki artystycznej (II)
DESCRIPTION:Nieco bardziej zaawansowane (II)\, warsztaty dla wszystkich otwartych na nowe\, kreatywne doświadczenia. Przeznaczone zwłaszcza dla osób które lubią rękodzieło i prace manualne i nie obawiają się wyzwań ! Zapewniam jednak\, że dzięki instrukcjom\, krok po kroku\, proponowane naczynie wykona także niewtajemniczony uczestnik 🙂 \nWykonane prace będą gotowe do obioru albo szkliwienia po 2 tygodniach. \nNależy je odebrać lub poszkliwić w ciągu kolejnych 4 tygodni.
URL:https://terraarte.pl/event/warsztaty-ceramiki-artystycznej-ii/
END:VEVENT
BEGIN:VEVENT
DTSTART;TZID=Europe/Warsaw:20251211T190000
DTEND;TZID=Europe/Warsaw:20251211T210000
DTSTAMP:20260419T213321
CREATED:20250707T231709Z
LAST-MODIFIED:20250707T231709Z
UID:5771-1765479600-1765486800@terraarte.pl
SUMMARY:Warsztaty ceramiki artystycznej (I) - misy i miseczki
DESCRIPTION:Ciekawe \, niewymagające (I) warsztaty dla wszystkich otwartych na nowe\, kreatywne doświadczenia. Także dla osób które z tworzeniem ceramiki będą miały do czynienia po raz pierwszy 🙂 \nWykonane prace będą gotowe do obioru albo szkliwienia po 2 tygodniach. \nNależy je odebrać lub poszkliwić w ciągu kolejnych 4 tygodni.
URL:https://terraarte.pl/event/warsztaty-ceramiki-artystycznej-i-misy-i-miseczki-4/
END:VEVENT
BEGIN:VEVENT
DTSTART;TZID=Europe/Warsaw:20251204T190000
DTEND;TZID=Europe/Warsaw:20251204T210000
DTSTAMP:20260419T213321
CREATED:20250707T231544Z
LAST-MODIFIED:20250707T231544Z
UID:5769-1764874800-1764882000@terraarte.pl
SUMMARY:Warsztaty ceramiki artystycznej (I) - filiżanka z podstawką
DESCRIPTION:Ciekawe \, niewymagające (I) warsztaty dla wszystkich otwartych na nowe\, kreatywne doświadczenia. Także dla osób które z tworzeniem ceramiki będą miały do czynienia po raz pierwszy 🙂 \nWykonane prace będą gotowe do obioru albo szkliwienia po 2 tygodniach. \nNależy je odebrać lub poszkliwić w ciągu kolejnych 4 tygodni.
URL:https://terraarte.pl/event/warsztaty-ceramiki-artystycznej-i-filizanka-z-podstawka-3/
END:VEVENT
BEGIN:VEVENT
DTSTART;TZID=Europe/Warsaw:20251203T190000
DTEND;TZID=Europe/Warsaw:20251203T210000
DTSTAMP:20260419T213321
CREATED:20250707T230132Z
LAST-MODIFIED:20250707T230232Z
UID:5760-1764788400-1764795600@terraarte.pl
SUMMARY:Szkliwienie i malowanie prac
DESCRIPTION:Szkliwienie prac to wykańczanie wykonanych wcześniej i już wstępnie wypalonych na tzw.biskwit przedmiotów tak\, aby zyskały kolor\, połysk i nieprzesiąkliwość. Szkliwienie podnosi więc walory estetyczne i użytkowe naczyń. Polega na nałożeniu warstwy jednego lub kilku szkliw na powierzchnię naczynia przed ponownym wypaleniem. \nW pracowni znajdziecie szeroki wachlarz szkliw które dopasujecie do swoich naczyń i gustów 🙂 \nMajolika to technika polegająca na malowaniu dekoracji na świeżo nałożonym białym szkliwie. \nPozwala uzyskać niezwykłe efekty dekoracyjne.
URL:https://terraarte.pl/event/szkliwienie-i-malowanie-prac-4/
ATTACH;FMTTYPE=image/jpeg:https://terraarte.pl/wp-content/uploads/2019/07/painting-ceramics-female-ceramist-try-different-color-pottery-cup-during-workshop-master-class-scaled.jpg
END:VEVENT
BEGIN:VEVENT
DTSTART;TZID=Europe/Warsaw:20251127T190000
DTEND;TZID=Europe/Warsaw:20251127T210000
DTSTAMP:20260419T213321
CREATED:20250707T225428Z
LAST-MODIFIED:20250707T225428Z
UID:5757-1764270000-1764277200@terraarte.pl
SUMMARY:Warsztaty ceramiki artystycznej (II) - filiżanka / kubek Jumbo
DESCRIPTION:Nieco bardziej zaawansowane (II)\, warsztaty dla wszystkich otwartych na nowe\, kreatywne doświadczenia. Przeznaczone zwłaszcza dla osób które lubią rękodzieło i prace manualne i nie obawiają się wyzwań ! Zapewniam jednak\, że dzięki instrukcjom\, krok po kroku\, proponowane naczynie wykona także niewtajemniczony uczestnik 🙂 \nWykonane prace będą gotowe do obioru albo szkliwienia po 2 tygodniach. \nNależy je odebrać lub poszkliwić w ciągu kolejnych 4 tygodni.
URL:https://terraarte.pl/event/warsztaty-ceramiki-artystycznej-ii-filizanka-kubek-jumbo/
END:VEVENT
BEGIN:VEVENT
DTSTART;TZID=Europe/Warsaw:20251120T190000
DTEND;TZID=Europe/Warsaw:20251120T210000
DTSTAMP:20260419T213321
CREATED:20250707T215932Z
LAST-MODIFIED:20250707T215932Z
UID:5755-1763665200-1763672400@terraarte.pl
SUMMARY:Warsztaty ceramiki artystycznej (I) - misy i miseczki
DESCRIPTION:Ciekawe \, niewymagające (I) warsztaty dla wszystkich otwartych na nowe\, kreatywne doświadczenia. Także dla osób które z tworzeniem ceramiki będą miały do czynienia po raz pierwszy 🙂 \nWykonane prace będą gotowe do obioru albo szkliwienia po 2 tygodniach. \nNależy je odebrać lub poszkliwić w ciągu kolejnych 4 tygodni.
URL:https://terraarte.pl/event/warsztaty-ceramiki-artystycznej-i-misy-i-miseczki-3/
END:VEVENT
BEGIN:VEVENT
DTSTART;TZID=Europe/Warsaw:20251118T190000
DTEND;TZID=Europe/Warsaw:20251118T210000
DTSTAMP:20260419T213321
CREATED:20250707T214525Z
LAST-MODIFIED:20250910T145201Z
UID:5749-1763492400-1763499600@terraarte.pl
SUMMARY:Szkliwienie prac
DESCRIPTION:Szkliwienie prac to wykańczanie wykonanych wcześniej i już wstępnie wypalonych na tzw.biskwit przedmiotów tak\, aby zyskały kolor\, połysk i nieprzesiąkliwość. Szkliwienie podnosi więc walory estetyczne i użytkowe naczyń. Polega na nałożeniu warstwy jednego lub kilku szkliw na powierzchnię naczynia przed ponownym wypaleniem.\nW pracowni znajdziecie szeroki wachlarz szkliw które dopasujecie do swoich naczyń i gustów 🙂
URL:https://terraarte.pl/event/szkliwienie-prac-7/
ATTACH;FMTTYPE=image/jpeg:https://terraarte.pl/wp-content/uploads/2019/07/painting-ceramics-female-ceramist-try-different-color-pottery-cup-during-workshop-master-class-scaled.jpg
END:VEVENT
BEGIN:VEVENT
DTSTART;TZID=Europe/Warsaw:20251113T190000
DTEND;TZID=Europe/Warsaw:20251113T210000
DTSTAMP:20260419T213321
CREATED:20250707T215008Z
LAST-MODIFIED:20250707T215008Z
UID:5753-1763060400-1763067600@terraarte.pl
SUMMARY:Warsztaty ceramiki artystycznej (I) - filiżanka z podstawką
DESCRIPTION:Ciekawe \, niewymagające (I) warsztaty dla wszystkich otwartych na nowe\, kreatywne doświadczenia. Także dla osób które z tworzeniem ceramiki będą miały do czynienia po raz pierwszy 🙂 \nWykonane prace będą gotowe do obioru albo szkliwienia po 2 tygodniach. \nNależy je odebrać lub poszkliwić w ciągu kolejnych 4 tygodni.
URL:https://terraarte.pl/event/warsztaty-ceramiki-artystycznej-i-filizanka-z-podstawka-2/
END:VEVENT
BEGIN:VEVENT
DTSTART;TZID=Europe/Warsaw:20251105T190000
DTEND;TZID=Europe/Warsaw:20251105T210000
DTSTAMP:20260419T213321
CREATED:20250707T214437Z
LAST-MODIFIED:20250707T214437Z
UID:5747-1762369200-1762376400@terraarte.pl
SUMMARY:Szkliwienie prac
DESCRIPTION:Szkliwienie prac to wykańczanie wykonanych wcześniej i już wstępnie wypalonych na tzw.biskwit przedmiotów tak\, aby zyskały kolor\, połysk i nieprzesiąkliwość. Szkliwienie podnosi więc walory estetyczne i użytkowe naczyń. Polega na nałożeniu warstwy jednego lub kilku szkliw na powierzchnię naczynia przed ponownym wypaleniem.\nW pracowni znajdziecie szeroki wachlarz szkliw które dopasujecie do swoich naczyń i gustów 🙂
URL:https://terraarte.pl/event/szkliwienie-prac-6/
ATTACH;FMTTYPE=image/jpeg:https://terraarte.pl/wp-content/uploads/2019/07/painting-ceramics-female-ceramist-try-different-color-pottery-cup-during-workshop-master-class-scaled.jpg
END:VEVENT
BEGIN:VEVENT
DTSTART;TZID=Europe/Warsaw:20251030T190000
DTEND;TZID=Europe/Warsaw:20251030T210000
DTSTAMP:20260419T213321
CREATED:20250707T213114Z
LAST-MODIFIED:20250707T213114Z
UID:5745-1761850800-1761858000@terraarte.pl
SUMMARY:Warsztaty ceramiki artystycznej (II) - ażurowa misa
DESCRIPTION:Nieco bardziej zaawansowane (II)\, warsztaty dla wszystkich otwartych na nowe\, kreatywne doświadczenia. Przeznaczone zwłaszcza dla osób które lubią rękodzieło i prace manualne i nie obawiają się wyzwań ! Zapewniam jednak\, że dzięki instrukcjom\, krok po kroku\, proponowane naczynie wykona także niewtajemniczony uczestnik 🙂 \nWykonane prace będą gotowe do obioru albo szkliwienia po 2 tygodniach. \nNależy je odebrać lub poszkliwić w ciągu kolejnych 4 tygodni.
URL:https://terraarte.pl/event/warsztaty-ceramiki-artystycznej-ii-azurowa-misa-2/
END:VEVENT
BEGIN:VEVENT
DTSTART;TZID=Europe/Warsaw:20251023T190000
DTEND;TZID=Europe/Warsaw:20251023T210000
DTSTAMP:20260419T213321
CREATED:20250707T212909Z
LAST-MODIFIED:20250718T094224Z
UID:5743-1761246000-1761253200@terraarte.pl
SUMMARY:Warsztaty ceramiki artystycznej (I) Kubek z dekoracją nakładaną
DESCRIPTION:Ciekawe \, niewymagające (I) warsztaty dla wszystkich otwartych na nowe\, kreatywne doświadczenia. Także dla osób które z tworzeniem ceramiki będą miały do czynienia po raz pierwszy 🙂 \nWykonane prace będą gotowe do obioru albo szkliwienia po 2 tygodniach. \nNależy je odebrać lub poszkliwić w ciągu kolejnych 4 tygodni.
URL:https://terraarte.pl/event/warsztaty-ceramiki-artystycznej-i/
ATTACH;FMTTYPE=image/jpeg:https://terraarte.pl/wp-content/uploads/2019/08/handmade-pottery-manufacture-process-woman-artist-hand-create-jug-raw-clay-using-tools-studio-scaled.jpg
END:VEVENT
BEGIN:VEVENT
DTSTART;TZID=Europe/Warsaw:20251022T190000
DTEND;TZID=Europe/Warsaw:20251022T210000
DTSTAMP:20260419T213321
CREATED:20250707T212742Z
LAST-MODIFIED:20250707T212742Z
UID:5741-1761159600-1761166800@terraarte.pl
SUMMARY:Szkliwienie prac
DESCRIPTION:Szkliwienie prac to wykańczanie wykonanych wcześniej i już wstępnie wypalonych na tzw.biskwit przedmiotów tak\, aby zyskały kolor\, połysk i nieprzesiąkliwość. Szkliwienie podnosi więc walory estetyczne i użytkowe naczyń. Polega na nałożeniu warstwy jednego lub kilku szkliw na powierzchnię naczynia przed ponownym wypaleniem.\nW pracowni znajdziecie szeroki wachlarz szkliw które dopasujecie do swoich naczyń i gustów 🙂
URL:https://terraarte.pl/event/szkliwienie-prac-5/
ATTACH;FMTTYPE=image/jpeg:https://terraarte.pl/wp-content/uploads/2019/07/painting-ceramics-female-ceramist-try-different-color-pottery-cup-during-workshop-master-class-scaled.jpg
END:VEVENT
BEGIN:VEVENT
DTSTART;TZID=Europe/Warsaw:20251016T190000
DTEND;TZID=Europe/Warsaw:20251016T210000
DTSTAMP:20260419T213321
CREATED:20250707T212408Z
LAST-MODIFIED:20250707T212440Z
UID:5738-1760641200-1760648400@terraarte.pl
SUMMARY:Warsztaty ceramiki artystycznej (I) - misy i miseczki
DESCRIPTION:Ciekawe \, niewymagające (I) warsztaty dla wszystkich otwartych na nowe\, kreatywne doświadczenia. Także dla osób które z tworzeniem ceramiki będą miały do czynienia po raz pierwszy 🙂 \nWykonane prace będą gotowe do obioru albo szkliwienia po 2 tygodniach. \nNależy je odebrać lub poszkliwić w ciągu kolejnych 4 tygodni.
URL:https://terraarte.pl/event/warsztaty-ceramiki-artystycznej-i-misy-i-miseczki-2/
END:VEVENT
BEGIN:VEVENT
DTSTART;TZID=Europe/Warsaw:20251014T190000
DTEND;TZID=Europe/Warsaw:20251014T210000
DTSTAMP:20260419T213321
CREATED:20250707T211704Z
LAST-MODIFIED:20250707T211704Z
UID:5736-1760468400-1760475600@terraarte.pl
SUMMARY:Warsztaty ceramiki artystycznej (II)- kubek / filiżanka Jumbo
DESCRIPTION:Nieco bardziej zaawansowane\, warsztaty dla wszystkich otwartych na nowe\, kreatywne doświadczenia. Przeznaczone zwłaszcza dla osób które lubią rękodzieło i prace manualne i nie obawiają się wyzwań ! Zapewniam jednak\, że dzięki instrukcjom\, krok po kroku\, proponowane naczynie wykona także niewtajemniczony uczestnik 🙂 \nWykonane prace będą gotowe do obioru albo szkliwienia po 2 tygodniach. \nNależy je odebrać lub poszkliwić w ciągu kolejnych 4 tygodni.
URL:https://terraarte.pl/event/warsztaty-ceramiki-artystycznej-ii-kubek-filizanka-jumbo-2/
END:VEVENT
BEGIN:VEVENT
DTSTART;TZID=Europe/Warsaw:20251009T190000
DTEND;TZID=Europe/Warsaw:20251009T210000
DTSTAMP:20260419T213321
CREATED:20250707T210845Z
LAST-MODIFIED:20250707T210845Z
UID:5734-1760036400-1760043600@terraarte.pl
SUMMARY:Warsztaty ceramiki artystycznej (I) kubek z dekoracją nakładaną
DESCRIPTION:Ciekawe \, niewymagające (I) warsztaty dla wszystkich otwartych na nowe\, kreatywne doświadczenia. Także dla osób które z tworzeniem ceramiki będą miały do czynienia po raz pierwszy 🙂 \nWykonane prace będą gotowe do obioru albo szkliwienia po 2 tygodniach. \nNależy je odebrać lub poszkliwić w ciągu kolejnych 4 tygodni.
URL:https://terraarte.pl/event/warsztaty-ceramiki-artystycznej-i-kubek-z-dekoracja-nakladana/
END:VEVENT
BEGIN:VEVENT
DTSTART;TZID=Europe/Warsaw:20251008T190000
DTEND;TZID=Europe/Warsaw:20251008T210000
DTSTAMP:20260419T213321
CREATED:20250707T205846Z
LAST-MODIFIED:20250707T205846Z
UID:5732-1759950000-1759957200@terraarte.pl
SUMMARY:Szkliwienie i malowanie prac
DESCRIPTION:Szkliwienie prac to wykańczanie wykonanych wcześniej i już wstępnie wypalonych na tzw.biskwit przedmiotów tak\, aby zyskały kolor\, połysk i nieprzesiąkliwość. Szkliwienie podnosi więc walory estetyczne i użytkowe naczyń. Polega na nałożeniu warstwy jednego lub kilku szkliw na powierzchnię naczynia przed ponownym wypaleniem. \nW pracowni znajdziecie szeroki wachlarz szkliw które dopasujecie do swoich naczyń i gustów 🙂 \nMajolika to technika polegająca na malowaniu dekoracji na świeżo nałożonym białym szkliwie. \nPozwala uzyskać niezwykłe efekty dekoracyjne.
URL:https://terraarte.pl/event/szkliwienie-i-malowanie-prac-3/
ATTACH;FMTTYPE=image/jpeg:https://terraarte.pl/wp-content/uploads/2019/07/painting-ceramics-female-ceramist-try-different-color-pottery-cup-during-workshop-master-class-scaled.jpg
END:VEVENT
BEGIN:VEVENT
DTSTART;TZID=Europe/Warsaw:20250911T190000
DTEND;TZID=Europe/Warsaw:20250911T210000
DTSTAMP:20260419T213321
CREATED:20250707T203536Z
LAST-MODIFIED:20250707T203712Z
UID:5721-1757617200-1757624400@terraarte.pl
SUMMARY:Warsztaty ceramiki artystycznej (II)- ażurowa misa
DESCRIPTION:Pasjonujące warsztaty dla wszystkich otwartych na nowe\, kreatywne doświadczenia. Przeznaczone zwłaszcza dla osób które lubią rękodzieło i prace manualne i nie obawiają się wyzwań ! Zapewniam jednak\, że dzięki instrukcjom\, krok po kroku\, ażurową misę wykona także niewtajemniczony uczestnik 🙂 \nWykonane prace będą gotowe do obioru albo szkliwienia po 2 tygodniach. \nNależy je odebrać lub poszkliwić w ciągu kolejnych 4 tygodni.
URL:https://terraarte.pl/event/warsztaty-ceramiki-artystycznej-ii-azurowa-misa/
END:VEVENT
BEGIN:VEVENT
DTSTART;TZID=Europe/Warsaw:20250910T190000
DTEND;TZID=Europe/Warsaw:20250910T210000
DTSTAMP:20260419T213321
CREATED:20250707T204529Z
LAST-MODIFIED:20250707T204610Z
UID:5728-1757530800-1757538000@terraarte.pl
SUMMARY:Szkliwienie i malowanie prac
DESCRIPTION:Szkliwienie prac to wykańczanie wykonanych wcześniej i już wstępnie wypalonych na tzw.biskwit przedmiotów tak\, aby zyskały kolor\, połysk i nieprzesiąkliwość. Szkliwienie podnosi więc walory estetyczne i użytkowe naczyń. Polega na nałożeniu warstwy jednego lub kilku szkliw na powierzchnię naczynia przed ponownym wypaleniem. \nW pracowni znajdziecie szeroki wachlarz szkliw które dopasujecie do swoich naczyń i gustów 🙂 \nMajolika to technika polegająca na malowaniu dekoracji na świeżo nałożonym białym szkliwie. \nPozwala uzyskać niezwykłe efekty dekoracyjne.
URL:https://terraarte.pl/event/szkliwienie-i-malowanie-prac-2/
ATTACH;FMTTYPE=image/jpeg:https://terraarte.pl/wp-content/uploads/2019/07/painting-ceramics-female-ceramist-try-different-color-pottery-cup-during-workshop-master-class-scaled.jpg
END:VEVENT
BEGIN:VEVENT
DTSTART;TZID=Europe/Warsaw:20250909T190000
DTEND;TZID=Europe/Warsaw:20250909T210000
DTSTAMP:20260419T213321
CREATED:20250707T203239Z
LAST-MODIFIED:20250707T203239Z
UID:5719-1757444400-1757451600@terraarte.pl
SUMMARY:Warsztaty ceramiki artystycznej (I) - misy i miseczki
DESCRIPTION:Ciekawe \, niewymagające warsztaty dla wszystkich otwartych na nowe\, kreatywne doświadczenia. Także dla osób które z tworzeniem ceramiki będą miały do czynienia po raz pierwszy 🙂 \nWykonane prace będą gotowe do obioru albo szkliwienia po 2 tygodniach. \nNależy je odebrać lub poszkliwić w ciągu kolejnych 4 tygodni.
URL:https://terraarte.pl/event/warsztaty-ceramiki-artystycznej-i-misy-i-miseczki/
END:VEVENT
END:VCALENDAR