BEGIN:VCALENDAR
VERSION:2.0
PRODID:-//Terra Arte - ECPv6.15.20//NONSGML v1.0//EN
CALSCALE:GREGORIAN
METHOD:PUBLISH
X-ORIGINAL-URL:https://terraarte.pl
X-WR-CALDESC:Wydarzenia dla Terra Arte
REFRESH-INTERVAL;VALUE=DURATION:PT1H
X-Robots-Tag:noindex
X-PUBLISHED-TTL:PT1H
BEGIN:VTIMEZONE
TZID:Europe/Warsaw
BEGIN:DAYLIGHT
TZOFFSETFROM:+0100
TZOFFSETTO:+0200
TZNAME:CEST
DTSTART:20240331T010000
END:DAYLIGHT
BEGIN:STANDARD
TZOFFSETFROM:+0200
TZOFFSETTO:+0100
TZNAME:CET
DTSTART:20241027T010000
END:STANDARD
BEGIN:DAYLIGHT
TZOFFSETFROM:+0100
TZOFFSETTO:+0200
TZNAME:CEST
DTSTART:20250330T010000
END:DAYLIGHT
BEGIN:STANDARD
TZOFFSETFROM:+0200
TZOFFSETTO:+0100
TZNAME:CET
DTSTART:20251026T010000
END:STANDARD
BEGIN:DAYLIGHT
TZOFFSETFROM:+0100
TZOFFSETTO:+0200
TZNAME:CEST
DTSTART:20260329T010000
END:DAYLIGHT
BEGIN:STANDARD
TZOFFSETFROM:+0200
TZOFFSETTO:+0100
TZNAME:CET
DTSTART:20261025T010000
END:STANDARD
END:VTIMEZONE
BEGIN:VEVENT
DTSTART;TZID=Europe/Warsaw:20250821T190000
DTEND;TZID=Europe/Warsaw:20250821T210000
DTSTAMP:20260420T022831
CREATED:20250707T165801Z
LAST-MODIFIED:20250707T165801Z
UID:5705-1755802800-1755810000@terraarte.pl
SUMMARY:Warsztaty ceramiki artystycznej - kubek z dekoracja odciskaną
DESCRIPTION:Ciekawe \, niewymagające warsztaty dla wszystkich otwartych na nowe\, kreatywne doświadczenia. Także dla osób które z tworzeniem ceramiki będą miały do czynienia po raz pierwszy 🙂 \nWykonane prace będą gotowe do obioru albo szkliwienia po 2 tygodniach. \nNależy je odebrać lub poszkliwić w ciągu kolejnych 4 tygodni.
URL:https://terraarte.pl/event/warsztaty-ceramiki-artystycznej-kubek-z-dekoracja-odciskana/
END:VEVENT
BEGIN:VEVENT
DTSTART;TZID=Europe/Warsaw:20250820T190000
DTEND;TZID=Europe/Warsaw:20250820T210000
DTSTAMP:20260420T022831
CREATED:20250707T171203Z
LAST-MODIFIED:20250707T171506Z
UID:5711-1755716400-1755723600@terraarte.pl
SUMMARY:Szkliwienie i malowanie prac
DESCRIPTION:Szkliwienie prac to wykańczanie wykonanych wcześniej i już wstępnie wypalonych na tzw.biskwit przedmiotów tak\, aby zyskały kolor\, połysk i nieprzesiąkliwość. Szkliwienie podnosi więc walory estetyczne i użytkowe naczyń. Polega na nałożeniu warstwy jednego lub kilku szkliw na powierzchnię naczynia przed ponownym wypaleniem. \nW pracowni znajdziecie szeroki wachlarz szkliw które dopasujecie do swoich naczyń i gustów 🙂 \nMajolika to technika polegająca na malowaniu dekoracji na świeżo nałożonym białym szkliwie. \nPozwala uzyskać niezwykłe efekty dekoracyjne.
URL:https://terraarte.pl/event/szkliwienie-i-malowanie-prac-majolika/
ATTACH;FMTTYPE=image/jpeg:https://terraarte.pl/wp-content/uploads/2019/07/painting-ceramics-female-ceramist-try-different-color-pottery-cup-during-workshop-master-class-scaled.jpg
END:VEVENT
BEGIN:VEVENT
DTSTART;TZID=Europe/Warsaw:20250814T190000
DTEND;TZID=Europe/Warsaw:20250814T210000
DTSTAMP:20260420T022831
CREATED:20250707T164503Z
LAST-MODIFIED:20250707T170553Z
UID:5700-1755198000-1755205200@terraarte.pl
SUMMARY:Warsztaty ceramiki artystycznej – misy i miseczki
DESCRIPTION:Ciekawe \, niewymagające warsztaty dla wszystkich otwartych na nowe\, kreatywne doświadczenia. Także dla osób które z tworzeniem ceramiki będą miały do czynienia po raz pierwszy 🙂 \nWykonane prace będą gotowe do obioru albo szkliwienia po 2 tygodniach. \nNależy je odebrać lub poszkliwić w ciągu kolejnych 4 tygodni.
URL:https://terraarte.pl/event/warsztaty-ceramiki-artystycznej-miski-i-miseczki/
END:VEVENT
BEGIN:VEVENT
DTSTART;TZID=Europe/Warsaw:20250812T190000
DTEND;TZID=Europe/Warsaw:20250812T210000
DTSTAMP:20260420T022831
CREATED:20250707T164217Z
LAST-MODIFIED:20250707T164217Z
UID:5698-1755025200-1755032400@terraarte.pl
SUMMARY:Warsztaty ceramiki artystycznej – filiżanka z podstawką
DESCRIPTION:Ciekawe \, niewymagające warsztaty dla wszystkich otwartych na nowe\, kreatywne doświadczenia. Także dla osób które z tworzeniem ceramiki będą miały do czynienia po raz pierwszy 🙂 \nWykonane prace będą gotowe do obioru albo szkliwienia po 2 tygodniach. \nNależy je odebrać lub poszkliwić w ciągu kolejnych 4 tygodni.
URL:https://terraarte.pl/event/warsztaty-ceramiki-artystycznej-filizanka-z-podstawka/
END:VEVENT
BEGIN:VEVENT
DTSTART;TZID=Europe/Warsaw:20250807T190000
DTEND;TZID=Europe/Warsaw:20250807T210000
DTSTAMP:20260420T022831
CREATED:20250707T162005Z
LAST-MODIFIED:20250707T162654Z
UID:5693-1754593200-1754600400@terraarte.pl
SUMMARY:Warsztaty ceramiki artystycznej - ażurowa misa  na owoce
DESCRIPTION:Pasjonujące warsztaty dla wszystkich otwartych na nowe\, kreatywne doświadczenia. Przeznaczone dla osób które lubią rękodzieło  i prace manualne ale dzięki instrukcjom\, krok po kroku\, ażurową misę wykona także niewtajemniczony uczestnik  🙂 \nWykonane prace będą gotowe do obioru albo szkliwienia po 2 tygodniach. \nNależy je odebrać lub poszkliwić w ciągu kolejnych 4 tygodni.
URL:https://terraarte.pl/event/azurowa-misa-na-owoce/
END:VEVENT
BEGIN:VEVENT
DTSTART;TZID=Europe/Warsaw:20250731T190000
DTEND;TZID=Europe/Warsaw:20250731T210000
DTSTAMP:20260420T022831
CREATED:20250707T145905Z
LAST-MODIFIED:20250708T094534Z
UID:5688-1753988400-1753995600@terraarte.pl
SUMMARY:Warsztaty ceramiki artystycznej – lepienie filiżanki / kubka ze spodkiem
DESCRIPTION:Ciekawe \, niewymagające warsztaty dla wszystkich otwartych na nowe\, kreatywne doświadczenia. Także dla osób które z tworzeniem ceramiki będą miały do czynienia po raz pierwszy 🙂 Wykonane prace będą gotowe do obioru albo szkliwienia po 2 tygodniach. Należy je odebrać lub poszkliwić w ciągu kolejnych 4 tygodni.
URL:https://terraarte.pl/event/warsztaty-ceramiki-artystycznej-lepienie-filizanki-kubka-ze-spodkiem-4/
END:VEVENT
BEGIN:VEVENT
DTSTART;TZID=Europe/Warsaw:20250730T190000
DTEND;TZID=Europe/Warsaw:20250730T210000
DTSTAMP:20260420T022831
CREATED:20250604T130315Z
LAST-MODIFIED:20250707T231139Z
UID:5635-1753902000-1753909200@terraarte.pl
SUMMARY:Szkliwienie i malowanie prac
DESCRIPTION:Szkliwienie prac to wykańczanie wykonanych wcześniej i już wstępnie wypalonych na tzw.biskwit przedmiotów tak\, aby zyskały kolor\, połysk i nieprzesiąkliwość. Szkliwienie podnosi więc walory estetyczne i użytkowe naczyń. Polega na nałożeniu warstwy jednego lub kilku szkliw na powierzchnię naczynia przed ponownym wypaleniem. \nW pracowni znajdziecie szeroki wachlarz szkliw które dopasujecie do swoich naczyń i gustów 🙂 \nMożecie również użyć farb do ceramiki i stworzyć dowolne dekoracje na świeżo nałożonym\, białym szkliwie. \n 
URL:https://terraarte.pl/event/szkliwienie-6/
ATTACH;FMTTYPE=image/jpeg:https://terraarte.pl/wp-content/uploads/2019/07/painting-ceramics-female-ceramist-try-different-color-pottery-cup-during-workshop-master-class-scaled.jpg
END:VEVENT
BEGIN:VEVENT
DTSTART;TZID=Europe/Warsaw:20250729T190000
DTEND;TZID=Europe/Warsaw:20250729T210000
DTSTAMP:20260420T022831
CREATED:20250705T211627Z
LAST-MODIFIED:20250708T094353Z
UID:5682-1753815600-1753822800@terraarte.pl
SUMMARY:Warsztaty ceramiki artystycznej - lepienie filiżanki / kubka Jumbo
DESCRIPTION:Pasjonujące warsztaty dla wszystkich otwartych na nowe\, kreatywne doświadczenia. Przeznaczone dla osób które lubią rękodzieło  i prace manualne ale dzięki instrukcjom\, krok po kroku\, Jumbo wykona także niewtajemniczony uczestnik  🙂 \nWykonane prace będą gotowe do obioru albo szkliwienia po 2 tygodniach. \nNależy je odebrać lub poszkliwić w ciągu kolejnych 4 tygodni.
URL:https://terraarte.pl/event/warsztaty-ceramiki-artystycznej-lepienie-filizanki-kubka-jumbo-2/
ATTACH;FMTTYPE=image/jpeg:https://terraarte.pl/wp-content/uploads/2025/03/high-view-bowls-mugs-pottery-concept-scaled.jpg
END:VEVENT
BEGIN:VEVENT
DTSTART;TZID=Europe/Warsaw:20250724T190000
DTEND;TZID=Europe/Warsaw:20250724T210000
DTSTAMP:20260420T022831
CREATED:20250707T145409Z
LAST-MODIFIED:20250707T145409Z
UID:5686-1753383600-1753390800@terraarte.pl
SUMMARY:Warsztaty ceramiki artystycznej – kubeczek z dekoracją nakładaną
DESCRIPTION:Ciekawe \, niewymagające warsztaty dla wszystkich otwartych na nowe\, kreatywne doświadczenia. Także dla osób które z tworzeniem ceramiki będą miały do czynienia po raz pierwszy 🙂 \nWykonane prace będą gotowe do obioru albo szkliwienia po 2 tygodniach. \nNależy je odebrać lub poszkliwić w ciągu kolejnych 4 tygodni.
URL:https://terraarte.pl/event/warsztaty-ceramiki-artystycznej-kubeczek-z-dekoracja-nakladana-2/
ATTACH;FMTTYPE=image/jpeg:https://terraarte.pl/wp-content/uploads/2019/08/handmade-pottery-manufacture-process-woman-artist-hand-create-jug-raw-clay-using-tools-studio-scaled.jpg
END:VEVENT
BEGIN:VEVENT
DTSTART;TZID=Europe/Warsaw:20250723T190000
DTEND;TZID=Europe/Warsaw:20250723T210000
DTSTAMP:20260420T022831
CREATED:20250705T174519Z
LAST-MODIFIED:20250705T174844Z
UID:5675-1753297200-1753304400@terraarte.pl
SUMMARY:Szkliwienie prac
DESCRIPTION:Szkliwienie prac to wykańczanie wykonanych wcześniej i już wstępnie wypalonych na tzw.biskwit  przedmiotów tak\, aby zyskały kolor\, połysk i nieprzesiąkliwość. Szkliwienie podnosi więc walory estetyczne i użytkowe naczyń.    Polega na nałożeniu warstwy jednego lub kilku szkliw na powierzchnię naczynia przed ponownym wypaleniem. \nW pracowni znajdziecie szeroki wachlarz  szkliw  które dopasujecie do swoich naczyń i gustów 🙂
URL:https://terraarte.pl/event/szkliwienie-prac-4/
ATTACH;FMTTYPE=image/jpeg:https://terraarte.pl/wp-content/uploads/2019/07/painting-ceramics-female-ceramist-try-different-color-pottery-cup-during-workshop-master-class-scaled.jpg
END:VEVENT
BEGIN:VEVENT
DTSTART;TZID=Europe/Warsaw:20250717T190000
DTEND;TZID=Europe/Warsaw:20250717T210000
DTSTAMP:20260420T022831
CREATED:20250707T144017Z
LAST-MODIFIED:20250707T144017Z
UID:5684-1752778800-1752786000@terraarte.pl
SUMMARY:Warsztaty ceramiki artystycznej – lepienie misek i miseczek
DESCRIPTION:Ciekawe \, niewymagające warsztaty dla wszystkich otwartych na nowe\, kreatywne doświadczenia. Także dla osób które z tworzeniem ceramiki będą miały do czynienia po raz pierwszy 🙂 \nWykonane prace będą gotowe do obioru albo szkliwienia po 2 tygodniach. \nNależy je odebrać lub poszkliwić w ciągu kolejnych 4 tygodni.
URL:https://terraarte.pl/event/warsztaty-ceramiki-artystycznej-lepienie-misek-i-miseczek-3/
ATTACH;FMTTYPE=image/jpeg:https://terraarte.pl/wp-content/uploads/2025/04/young-woman-makes-pottery-workshop-3-scaled.jpg
END:VEVENT
BEGIN:VEVENT
DTSTART;TZID=Europe/Warsaw:20250710T190000
DTEND;TZID=Europe/Warsaw:20250710T210000
DTSTAMP:20260420T022831
CREATED:20250705T202939Z
LAST-MODIFIED:20250705T202939Z
UID:5679-1752174000-1752181200@terraarte.pl
SUMMARY:Warsztaty ceramiki artystycznej - lepienie filiżanki / kubka Jumbo
DESCRIPTION:Pasjonujące warsztaty dla wszystkich otwartych na nowe\, kreatywne doświadczenia. Przeznaczone dla osób które lubią rękodzieło  i prace manualne ale dzięki instrukcjom\, krok po kroku\, Jumbo wykona także niewtajemniczony uczestnik  🙂 \nWykonane prace będą gotowe do obioru albo szkliwienia po 2 tygodniach. \nNależy je odebrać lub poszkliwić w ciągu kolejnych 4 tygodni.
URL:https://terraarte.pl/event/warsztaty-ceramiki-artystycznej-lepienie-filizanki-kubka-jumbo/
ATTACH;FMTTYPE=image/jpeg:https://terraarte.pl/wp-content/uploads/2025/03/high-view-bowls-mugs-pottery-concept-scaled.jpg
END:VEVENT
BEGIN:VEVENT
DTSTART;TZID=Europe/Warsaw:20250709T190000
DTEND;TZID=Europe/Warsaw:20250709T210000
DTSTAMP:20260420T022831
CREATED:20250604T134346Z
LAST-MODIFIED:20250604T134346Z
UID:5644-1752087600-1752094800@terraarte.pl
SUMMARY:Szkliwienie prac z malowaniem ( majolika)
DESCRIPTION:Szkliwienie prac to wykańczanie wykonanych wcześniej i już wstępnie wypalonych na tzw.biskwit przedmiotów tak\, aby zyskały kolor\, połysk i nieprzesiąkliwość. Szkliwienie podnosi więc walory estetyczne i użytkowe naczyń. Polega na nałożeniu warstwy jednego lub kilku szkliw na powierzchnię naczynia przed ponownym wypaleniem. \nW pracowni znajdziecie szeroki wachlarz szkliw które dopasujecie do swoich naczyń i gustów 🙂 \nMajolika to technika polegająca na malowaniu dekoracji na świeżo nałożonym białym szkliwie. \nPozwala uzyskać niezwykłe efekty dekoracyjne.
URL:https://terraarte.pl/event/szkliwienie-prac-z-malowaniem-majolika-4/
END:VEVENT
BEGIN:VEVENT
DTSTART;TZID=Europe/Warsaw:20250708T170000
DTEND;TZID=Europe/Warsaw:20250708T190000
DTSTAMP:20260420T022831
CREATED:20250705T173230Z
LAST-MODIFIED:20250705T173230Z
UID:5673-1751994000-1752001200@terraarte.pl
SUMMARY:Integracja ( wydarzenie zamknięte )
DESCRIPTION:Spotkania integracyjne to propozycja dla zorganizowanych grup 8-12 osobowych ( firma\, rodzina\, wieczór panieński / kawalerski\, grupa przyjaciół ) na ciekawe i kreatywne spędzenie dwóch godzin 🙂 \nTemat i termin zajęć do ustalenia telefonicznie lub mailowo.
URL:https://terraarte.pl/event/integracja-wydarzenie-zamkniete-4/
CATEGORIES:Integracja ( wydarzenie zamknięte )
ATTACH;FMTTYPE=image/jpeg:https://terraarte.pl/wp-content/uploads/2025/04/iStock-1094967624.jpg
END:VEVENT
BEGIN:VEVENT
DTSTART;TZID=Europe/Warsaw:20250701T190000
DTEND;TZID=Europe/Warsaw:20250701T210000
DTSTAMP:20260420T022831
CREATED:20250604T134103Z
LAST-MODIFIED:20250604T134206Z
UID:5642-1751396400-1751403600@terraarte.pl
SUMMARY:Szkliwienie prac z malowaniem ( majolika)
DESCRIPTION:Szkliwienie prac to wykańczanie wykonanych wcześniej i już wstępnie wypalonych na tzw.biskwit przedmiotów tak\, aby zyskały kolor\, połysk i nieprzesiąkliwość. Szkliwienie podnosi więc walory estetyczne i użytkowe naczyń. Polega na nałożeniu warstwy jednego lub kilku szkliw na powierzchnię naczynia przed ponownym wypaleniem. \nW pracowni znajdziecie szeroki wachlarz szkliw które dopasujecie do swoich naczyń i gustów 🙂 \nMajolika to technika polegająca na malowaniu dekoracji na świeżo nałożonym białym szkliwie. \nPozwala uzyskać niezwykłe efekty dekoracyjne.
URL:https://terraarte.pl/event/szkliwienie-prac-z-malowaniem-majolika-3/
END:VEVENT
BEGIN:VEVENT
DTSTART;TZID=Europe/Warsaw:20250624T190000
DTEND;TZID=Europe/Warsaw:20250624T210000
DTSTAMP:20260420T022831
CREATED:20250604T135128Z
LAST-MODIFIED:20250604T135128Z
UID:5646-1750791600-1750798800@terraarte.pl
SUMMARY:Warsztaty ceramiki artystycznej - kubeczek z dekoracją nakładaną
DESCRIPTION:Ciekawe \, niewymagające warsztaty dla wszystkich otwartych na nowe\, kreatywne doświadczenia. Także dla osób które z tworzeniem ceramiki będą miały do czynienia po raz pierwszy 🙂 \nWykonane prace będą gotowe do obioru albo szkliwienia po 2 tygodniach. \nNależy je odebrać lub poszkliwić w ciągu kolejnych 4 tygodni.
URL:https://terraarte.pl/event/warsztaty-ceramiki-artystycznej-kubeczek-z-dekoracja-nakladana/
ATTACH;FMTTYPE=image/jpeg:https://terraarte.pl/wp-content/uploads/2019/08/handmade-pottery-manufacture-process-woman-artist-hand-create-jug-raw-clay-using-tools-studio-1-scaled.jpg
END:VEVENT
BEGIN:VEVENT
DTSTART;TZID=Europe/Warsaw:20250623T190000
DTEND;TZID=Europe/Warsaw:20250623T210000
DTSTAMP:20260420T022831
CREATED:20250604T133732Z
LAST-MODIFIED:20250604T133732Z
UID:5640-1750705200-1750712400@terraarte.pl
SUMMARY:Szkliwienie
DESCRIPTION:Szkliwienie prac to wykańczanie wykonanych wcześniej i już wstępnie wypalonych na tzw.biskwit  przedmiotów tak\, aby zyskały kolor\, połysk i nieprzesiąkliwość. Szkliwienie podnosi więc walory estetyczne i użytkowe naczyń.    Polega na nałożeniu warstwy jednego lub kilku szkliw na powierzchnię naczynia przed ponownym wypaleniem. \nW pracowni znajdziecie szeroki wachlarz  szkliw  które dopasujecie do swoich naczyń i gustów 🙂
URL:https://terraarte.pl/event/szkliwienie-7/
END:VEVENT
BEGIN:VEVENT
DTSTART;TZID=Europe/Warsaw:20250617T190000
DTEND;TZID=Europe/Warsaw:20250617T210000
DTSTAMP:20260420T022831
CREATED:20250604T130153Z
LAST-MODIFIED:20250604T133240Z
UID:5631-1750186800-1750194000@terraarte.pl
SUMMARY:Szkliwienie prac z malowaniem  (majolika)
DESCRIPTION:Szkliwienie prac to wykańczanie wykonanych wcześniej i już wstępnie wypalonych na tzw.biskwit  przedmiotów tak\, aby zyskały kolor\, połysk i nieprzesiąkliwość. Szkliwienie podnosi więc walory estetyczne i użytkowe naczyń.    Polega na nałożeniu warstwy jednego lub kilku szkliw na powierzchnię naczynia przed ponownym wypaleniem. \nW pracowni znajdziecie szeroki wachlarz  szkliw  które dopasujecie do swoich naczyń i gustów 🙂 \nMajolika to technika polegająca na malowaniu dekoracji na świeżo nałożonym białym szkliwie. \nPozwala uzyskać niezwykłe efekty dekoracyjne.
URL:https://terraarte.pl/event/szkliwienie-5/
ATTACH;FMTTYPE=image/jpeg:https://terraarte.pl/wp-content/uploads/2019/07/painting-ceramics-female-ceramist-try-different-color-pottery-cup-during-workshop-master-class-scaled.jpg
END:VEVENT
BEGIN:VEVENT
DTSTART;TZID=Europe/Warsaw:20250616T190000
DTEND;TZID=Europe/Warsaw:20250616T210000
DTSTAMP:20260420T022831
CREATED:20250604T125911Z
LAST-MODIFIED:20250604T125911Z
UID:5629-1750100400-1750107600@terraarte.pl
SUMMARY:Szkliwienie
DESCRIPTION:Szkliwienie prac to wykańczanie wykonanych wcześniej i już wstępnie wypalonych na tzw.biskwit  przedmiotów tak\, aby zyskały kolor\, połysk i nieprzesiąkliwość. Szkliwienie podnosi więc walory estetyczne i użytkowe naczyń.    Polega na nałożeniu warstwy jednego lub kilku szkliw na powierzchnię naczynia przed ponownym wypaleniem. \nW pracowni znajdziecie szeroki wachlarz  szkliw  które dopasujecie do swoich naczyń i gustów 🙂 \n 
URL:https://terraarte.pl/event/szkliwienie-4/
ATTACH;FMTTYPE=image/jpeg:https://terraarte.pl/wp-content/uploads/2019/07/painting-ceramics-female-ceramist-try-different-color-pottery-cup-during-workshop-master-class-scaled.jpg
END:VEVENT
BEGIN:VEVENT
DTSTART;TZID=Europe/Warsaw:20250605T190000
DTEND;TZID=Europe/Warsaw:20250605T210000
DTSTAMP:20260420T022831
CREATED:20250604T120326Z
LAST-MODIFIED:20250604T120326Z
UID:5623-1749150000-1749157200@terraarte.pl
SUMMARY:Warsztaty ceramiki artystycznej - lepienie filiżanki/kubka ze spodkiem
DESCRIPTION:Ciekawe \, niewymagające warsztaty dla wszystkich otwartych na nowe\, kreatywne doświadczenia. Także dla osób które z tworzeniem ceramiki będą miały do czynienia po raz pierwszy 🙂 \nWykonane prace będą gotowe do obioru albo szkliwienia po 2 tygodniach. \nNależy je odebrać lub poszkliwić w ciągu kolejnych 4 tygodni.
URL:https://terraarte.pl/event/warsztaty-ceramiki-artystycznej-lepienie-filizanki-kubka-ze-spodkiem-3/
ATTACH;FMTTYPE=image/jpeg:https://terraarte.pl/wp-content/uploads/2019/08/art-therapy-ceramics-lesson-female-hands-shaping-potter-cup-artist-work-with-raw-clay-studio-scaled.jpg
END:VEVENT
BEGIN:VEVENT
DTSTART;TZID=Europe/Warsaw:20250604T190000
DTEND;TZID=Europe/Warsaw:20250604T210000
DTSTAMP:20260420T022831
CREATED:20250604T124238Z
LAST-MODIFIED:20250604T124238Z
UID:5625-1749063600-1749070800@terraarte.pl
SUMMARY:Szkliwienie
DESCRIPTION:Szkliwienie prac to wykańczanie wykonanych wcześniej i już wstępnie wypalonych na tzw.biskwit  przedmiotów tak\, aby zyskały kolor\, połysk i nieprzesiąkliwość. Szkliwienie podnosi więc walory estetyczne i użytkowe naczyń.    Polega na nałożeniu warstwy jednego lub kilku szkliw na powierzchnię naczynia przed ponownym wypaleniem. \nW pracowni znajdziecie szeroki wachlarz  szkliw  które dopasujecie do swoich naczyń i gustów 🙂 \n 
URL:https://terraarte.pl/event/szkliwienie-3/
ATTACH;FMTTYPE=image/jpeg:https://terraarte.pl/wp-content/uploads/2019/07/painting-ceramics-female-ceramist-try-different-color-pottery-cup-during-workshop-master-class-scaled.jpg
END:VEVENT
BEGIN:VEVENT
DTSTART;TZID=Europe/Warsaw:20250604T190000
DTEND;TZID=Europe/Warsaw:20250604T210000
DTSTAMP:20260420T022831
CREATED:20250604T113539Z
LAST-MODIFIED:20250604T113539Z
UID:5618-1749063600-1749070800@terraarte.pl
SUMMARY:Szkliwienie prac z malowaniem (majolika )
DESCRIPTION:Szkliwienie prac to wykańczanie wykonanych wcześniej i już wstępnie wypalonych na tzw.biskwit  przedmiotów tak\, aby zyskały kolor\, połysk i nieprzesiąkliwość. Szkliwienie podnosi więc walory estetyczne i użytkowe naczyń.    Polega na nałożeniu warstwy jednego lub kilku szkliw na powierzchnię naczynia przed ponownym wypaleniem. \nW pracowni znajdziecie szeroki wachlarz  szkliw  które dopasujecie do swoich naczyń i gustów 🙂 \nMajolika to technika polegająca na malowaniu dekoracji na świeżo nałożonym białym szkliwie. \nPozwala uzyskać niezwykłe efekty dekoracyjne.
URL:https://terraarte.pl/event/szkliwienie-prac-z-malowaniem-majolika-2/
ATTACH;FMTTYPE=image/jpeg:https://terraarte.pl/wp-content/uploads/2025/04/close-up-hands-painting-pottery-item-scaled-e1744595226385.jpg
END:VEVENT
BEGIN:VEVENT
DTSTART;TZID=Europe/Warsaw:20250603T170000
DTEND;TZID=Europe/Warsaw:20250603T190000
DTSTAMP:20260420T022831
CREATED:20250604T115444Z
LAST-MODIFIED:20250604T115444Z
UID:5621-1748970000-1748977200@terraarte.pl
SUMMARY:Integracja  ( wydarzenie zamkniete )
DESCRIPTION:Spotkania integracyjne to propozycja  dla zorganizowanych grup 8-12 osobowych ( firma\, rodzina\, wieczór panieński / kawalerski\, grupa przyjaciół ) na ciekawe i kreatywne  spędzenie dwóch godzin 🙂 \nTemat i termin zajęć do ustalenia telefonicznie lub mailowo.
URL:https://terraarte.pl/event/integracja-wydarzenie-zamkniete-3/
END:VEVENT
BEGIN:VEVENT
DTSTART;TZID=Europe/Warsaw:20250529T190000
DTEND;TZID=Europe/Warsaw:20250529T210000
DTSTAMP:20260420T022831
CREATED:20250414T011519Z
LAST-MODIFIED:20250414T011547Z
UID:5550-1748545200-1748552400@terraarte.pl
SUMMARY:Warsztaty ceramiki artystycznej - lepienie filiżanki / kubka ze spodkiem
DESCRIPTION:Ciekawe \, niewymagające warsztaty dla wszystkich otwartych na nowe\, kreatywne doświadczenia. Także dla osób które z tworzeniem ceramiki będą miały do czynienia po raz pierwszy 🙂 \nWykonane prace będą gotowe do obioru albo szkliwienia po 2 tygodniach. \nNależy je odebrać lub poszkliwić w ciągu kolejnych 4 tygodni. \n 
URL:https://terraarte.pl/event/warsztaty-ceramiki-artystycznej-lepienie-filizanki-kubka-ze-spodkiem-2/
CATEGORIES:Warsztaty ceramiki artystycznej (I)
ATTACH;FMTTYPE=image/jpeg:https://terraarte.pl/wp-content/uploads/2021/04/hands-woman-potter-forming-cup-from-clay-scaled.jpg
END:VEVENT
BEGIN:VEVENT
DTSTART;TZID=Europe/Warsaw:20250528T190000
DTEND;TZID=Europe/Warsaw:20250528T210000
DTSTAMP:20260420T022831
CREATED:20250414T010620Z
LAST-MODIFIED:20250414T010620Z
UID:5547-1748458800-1748466000@terraarte.pl
SUMMARY:Szkliwienie
DESCRIPTION:Szkliwienie prac to wykańczanie wykonanych wcześniej i już wstępnie wypalonych na tzw.biskwit  przedmiotów tak\, aby zyskały kolor\, połysk i nieprzesiąkliwość. Szkliwienie podnosi więc walory estetyczne i użytkowe naczyń.    Polega na nałożeniu warstwy jednego lub kilku szkliw na powierzchnię naczynia przed ponownym wypaleniem. \nW pracowni znajdziecie szeroki wachlarz  szkliw  które dopasujecie do swoich naczyń i gustów 🙂 \n 
URL:https://terraarte.pl/event/szkliwienie-2/
ATTACH;FMTTYPE=image/jpeg:https://terraarte.pl/wp-content/uploads/2019/07/painting-ceramics-female-ceramist-try-different-color-pottery-cup-during-workshop-master-class-scaled.jpg
END:VEVENT
BEGIN:VEVENT
DTSTART;TZID=Europe/Warsaw:20250527T190000
DTEND;TZID=Europe/Warsaw:20250527T210000
DTSTAMP:20260420T022831
CREATED:20250414T010321Z
LAST-MODIFIED:20250414T010434Z
UID:5544-1748372400-1748379600@terraarte.pl
SUMMARY:Szkliwienie prac z malowaniem (majolika )
DESCRIPTION:Szkliwienie prac to wykańczanie wykonanych wcześniej i już wstępnie wypalonych na tzw.biskwit  przedmiotów tak\, aby zyskały kolor\, połysk i nieprzesiąkliwość. Szkliwienie podnosi więc walory estetyczne i użytkowe naczyń.    Polega na nałożeniu warstwy jednego lub kilku szkliw na powierzchnię naczynia przed ponownym wypaleniem. \nW pracowni znajdziecie szeroki wachlarz  szkliw  które dopasujecie do swoich naczyń i gustów 🙂 \nMajolika to technika polegająca na malowaniu dekoracji na świeżo nałożonym białym szkliwie. \nPozwala uzyskać niezwykłe efekty dekoracyjne.
URL:https://terraarte.pl/event/szkliwienie-z-malowaniem-majolika/
ATTACH;FMTTYPE=image/jpeg:https://terraarte.pl/wp-content/uploads/2025/04/close-up-hands-painting-pottery-item-scaled-e1744595226385.jpg
END:VEVENT
BEGIN:VEVENT
DTSTART;TZID=Europe/Warsaw:20250522T190000
DTEND;TZID=Europe/Warsaw:20250522T210000
DTSTAMP:20260420T022831
CREATED:20250414T004721Z
LAST-MODIFIED:20250414T005339Z
UID:5535-1747940400-1747947600@terraarte.pl
SUMMARY:Warsztaty ceramiki artystycznej - lepienie misek i miseczek
DESCRIPTION:Ciekawe \, niewymagające warsztaty dla wszystkich otwartych na nowe\, kreatywne doświadczenia. Także dla osób które z tworzeniem ceramiki będą miały do czynienia po raz pierwszy 🙂 \nWykonane prace będą gotowe do obioru albo szkliwienia po 2 tygodniach. \nNależy je odebrać lub poszkliwić w ciągu kolejnych 4 tygodni.
URL:https://terraarte.pl/event/warsztzty-ceramiki-artystycznej-lepienie-misek-i-miseczek/
ATTACH;FMTTYPE=image/jpeg:https://terraarte.pl/wp-content/uploads/2025/04/young-woman-makes-pottery-workshop-3-scaled.jpg
END:VEVENT
BEGIN:VEVENT
DTSTART;TZID=Europe/Warsaw:20250521T190000
DTEND;TZID=Europe/Warsaw:20250521T210000
DTSTAMP:20260420T022831
CREATED:20250414T005925Z
LAST-MODIFIED:20250414T005925Z
UID:5542-1747854000-1747861200@terraarte.pl
SUMMARY:Szkliwienie
DESCRIPTION:Szkliwienie prac to wykańczanie wykonanych wcześniej i już wstępnie wypalonych na tzw.biskwit  przedmiotów tak\, aby zyskały kolor\, połysk i nieprzesiąkliwość. Szkliwienie podnosi więc walory estetyczne i użytkowe naczyń.    Polega na nałożeniu warstwy jednego lub kilku szkliw na powierzchnię naczynia przed ponownym wypaleniem. \nW pracowni znajdziecie szeroki wachlarz  szkliw  które dopasujecie do swoich naczyń i gustów 🙂
URL:https://terraarte.pl/event/szkliwienie/
ATTACH;FMTTYPE=image/jpeg:https://terraarte.pl/wp-content/uploads/2019/07/painting-ceramics-female-ceramist-try-different-color-pottery-cup-during-workshop-master-class-scaled.jpg
END:VEVENT
BEGIN:VEVENT
DTSTART;TZID=Europe/Warsaw:20250520T190000
DTEND;TZID=Europe/Warsaw:20250520T210000
DTSTAMP:20260420T022831
CREATED:20250414T005649Z
LAST-MODIFIED:20250414T005649Z
UID:5540-1747767600-1747774800@terraarte.pl
SUMMARY:Warsztaty ceramiki artystycznej - lepienie filiżanki/kubka ze spodkiem
DESCRIPTION:Ciekawe \, niewymagające warsztaty dla wszystkich otwartych na nowe\, kreatywne doświadczenia. Także dla osób które z tworzeniem ceramiki będą miały do czynienia po raz pierwszy 🙂 \nWykonane prace będą gotowe do obioru albo szkliwienia po 2 tygodniach. \nNależy je odebrać lub poszkliwić w ciągu kolejnych 4 tygodni.
URL:https://terraarte.pl/event/warsztaty-ceramiki-artystycznej-lepienie-filizanki-kubka-ze-spodkiem/
CATEGORIES:Warsztaty ceramiki artystycznej (I)
ATTACH;FMTTYPE=image/jpeg:https://terraarte.pl/wp-content/uploads/2019/08/art-therapy-ceramics-lesson-female-hands-shaping-potter-cup-artist-work-with-raw-clay-studio-scaled.jpg
END:VEVENT
BEGIN:VEVENT
DTSTART;TZID=Europe/Warsaw:20250515T190000
DTEND;TZID=Europe/Warsaw:20250515T210000
DTSTAMP:20260420T022831
CREATED:20250414T004439Z
LAST-MODIFIED:20250414T004938Z
UID:5531-1747335600-1747342800@terraarte.pl
SUMMARY:Warsztaty ceramiki artystycznej - lepienie misek i miseczek
DESCRIPTION:Ciekawe \, niewymagające warsztaty dla wszystkich otwartych na nowe\, kreatywne doświadczenia. Także dla osób które z tworzeniem ceramiki będą miały do czynienia po raz pierwszy 🙂 \nWykonane prace będą gotowe do obioru albo szkliwienia po 2 tygodniach. \nNależy je odebrać lub poszkliwić w ciągu kolejnych 4 tygodni.
URL:https://terraarte.pl/event/warsztaty-ceramiki-artystycznej-lepienie-misek-i-miseczek-2/
ATTACH;FMTTYPE=image/jpeg:https://terraarte.pl/wp-content/uploads/2025/04/young-woman-makes-pottery-workshop-3-scaled.jpg
END:VEVENT
END:VCALENDAR